BEGIN_USGS_DOQ_HEADER *
QUADRANGLE_NAME "PIRU" 3.45 or 7.5-min. name*
QUADRANT SW quadrant indicator if cell size = 3.75-minutes*
WEST_LONGITUDE -118 52 30.000 signed deg min sec SDDD MM SS.SSS*
EAST_LONGITUDE -118 48 45.000 signed deg min sec SDDD MM SS.SSS*
NORTH_LATITUDE 34 26 15.000 signed deg min sec SDDD MM SS.SSS*
SOUTH_LATITUDE 34 22 30.000 signed deg min sec SDDD MM SS.SSS*
PRODUCTION_DATE 1996 7 1 yyyy mm dd*
RASTER_ORDER LEFT_RIGHT/TOP_BOTTOM video display order*
BAND_ORGANIZATION "SINGLE FILE" single file or BSQ, or BIL or BIP*
BAND_CONTENT BLACK&WHITE black&white or red green blue*
BITS_PER_PIXEL 8 radiometric resolution*
SAMPLES_AND_LINES 6556 7640 number of columns and rows*
HORIZONTAL_DATUM NAD83 primary horizontal datum*
HORIZONTAL_COORDINATE_SYSTEM UTM *
COORDINATE_ZONE 11 coordinate system zone number*
HORIZONTAL_UNITS METERS coordinate system units*
HORIZONTAL_RESOLUTION 1.00 pixel horiz. ground sample distance*
SECONDARY_HORIZONTAL_DATUM NAD27 secondary horizontal datum*
XY_ORIGIN 327215.000 3812563.000 coord. of upper left pixel pri. datum*
SECONDARY_XY_ORIGIN 327296.560 3812366.126 coord upper left pixel sec datum*
NATION US nation code*
STATE CA state fip code*
NW_QUAD_CORNER_XY 327729.383 3812261.215 XY coords. of pri. NW quad corner*
NE_QUAD_CORNER_XY 333472.445 3812156.668 XY coords. of pri. NE quad corner*
SE_QUAD_CORNER_XY 333348.501 3805225.069 XY coords. of pri. SE quad corner*
SW_QUAD_CORNER_XY 327601.160 3805329.527 XY coords. of pri. SW quad corner*
SECONDARY_NW_QUAD_XY 327725.457 3812065.414 XY coords. - sec. NW quad cor.*
SECONDARY_NE_QUAD_XY 333468.650 3811960.864 XY coords. - sec. NE quad cor.*
SECONDARY_SE_QUAD_XY 333344.709 3805029.461 XY coords. - sec. SE quad cor.*
SECONDARY_SW_QUAD_XY 327597.238 3805133.921 XY coords. - sec. SW quad cor.*
RMSE_XY 2.30 doq horiz. accuracy*
IMAGE_SOURCE "BLACK AND WHITE FILM" b&w, cir, natural color, other*
SOURCE_IMAGE_ID "NAPP 6860 249" source image id*
SOURCE_IMAGE_DATE 1994 6 1 source image date as yyyy mm dd*
SOURCE_DEM_DATE 1996 7 1 source dem date yyyy mm dd*
AGENCY "WESTERN MAPPING CENTER (WMC)" oversight agency*
PRODUCER "USFS" producer/contractor*
PRODUCTION_SYSTEM "DV2.6.1 6/95OV2.4 5/95" production system*
STANDARD_VERSION 1996 12 version of DOQ standard*
METADATA_DATE 1997 6 14 date created or changed, yyyy mm dd*
DATA_FILE_SIZE 50094396 data set size in bytes*
BYTE_COUNT 6556 header byte count* * * * * * * * * * * * * * * * * * * * * * * * * * * * * * * * * * * * * * *
END_USGS_HEADER *
