BEGIN_USGS_DOQ_HEADER *
QUADRANGLE_NAME "FILLMORE" 3.45 or 7.5-min. name*
QUADRANT NW quadrant indicator if cell size = 3.75-minutes*
WEST_LONGITUDE -119 0 0.000 signed deg min sec SDDD MM SS.SSS*
EAST_LONGITUDE -118 56 15.000 signed deg min sec SDDD MM SS.SSS*
NORTH_LATITUDE 34 30 0.000 signed deg min sec SDDD MM SS.SSS*
SOUTH_LATITUDE 34 26 15.000 signed deg min sec SDDD MM SS.SSS*
PRODUCTION_DATE 1996 6 25 yyyy mm dd*
RASTER_ORDER LEFT_RIGHT/TOP_BOTTOM video display order*
BAND_ORGANIZATION "SINGLE FILE" single file or BSQ, or BIL or BIP*
BAND_CONTENT BLACK&WHITE black&white or red green blue*
BITS_PER_PIXEL 8 radiometric resolution*
SAMPLES_AND_LINES 6566 7650 number of columns and rows*
HORIZONTAL_DATUM NAD83 primary horizontal datum*
HORIZONTAL_COORDINATE_SYSTEM UTM *
COORDINATE_ZONE 11 coordinate system zone number*
HORIZONTAL_UNITS METERS coordinate system units*
HORIZONTAL_RESOLUTION 1.00 pixel horiz. ground sample distance*
SECONDARY_HORIZONTAL_DATUM NAD27 secondary horizontal datum*
XY_ORIGIN 315856.000 3819723.000 coord. of upper left pixel pri. datum*
SECONDARY_XY_ORIGIN 315937.730 3819526.170 coord upper left pixel sec datum*
NATION US nation code*
STATE CA state fip code*
NW_QUAD_CORNER_XY 316380.120 3819412.860 XY coords. of pri. NW quad corner*
NE_QUAD_CORNER_XY 322119.050 3819301.120 XY coords. of pri. NE quad corner*
SE_QUAD_CORNER_XY 321986.330 3812369.280 XY coords. of pri. SE quad corner*
SW_QUAD_CORNER_XY 316243.120 3812480.920 XY coords. of pri. SW quad corner*
SECONDARY_NW_QUAD_XY 316375.930 3819216.870 XY coords. - sec. NW quad cor.*
SECONDARY_NE_QUAD_XY 322114.980 3819105.130 XY coords. - sec. NE quad cor.*
SECONDARY_SE_QUAD_XY 321982.270 3812173.480 XY coords. - sec. SE quad cor.*
SECONDARY_SW_QUAD_XY 316238.930 3812285.130 XY coords. - sec. SW quad cor.*
RMSE_XY 2.70 doq horiz. accuracy*
IMAGE_SOURCE "BLACK AND WHITE FILM" b&w, cir, natural color, other*
SOURCE_IMAGE_ID "NAPP 6868 34" source image id*
SOURCE_IMAGE_DATE 1994 6 1 source image date as yyyy mm dd*
IMAGE_SOURCE "BLACK AND WHITE FILM" b&w, cir, natural color, other*
SOURCE_IMAGE_ID "NAPP 6868 6869" source image id*
SOURCE_IMAGE_DATE 1994 6 1 source image date as yyyy mm dd*
IMAGE_SOURCE "BLACK AND WHITE FILM" b&w, cir, natural color, other*
SOURCE_IMAGE_ID "NAPP 6868 29" source image id*
SOURCE_IMAGE_DATE 1994 6 1 source image date as yyyy mm dd*
SOURCE_DEM_DATE 1996 6 25 source dem date yyyy mm dd*
AGENCY "WESTERN MAPPING CENTER (WMC)" oversight agency*
PRODUCER "USDA FS GEOMETRONICS SERVICE CENTER" *
PRODUCTION_SYSTEM "DV2.6.1 6/95OV2.4 5/95" production system*
STANDARD_VERSION 1996 12 version of DOQ standard*
METADATA_DATE 1999 2 3 date created or changed, yyyy mm dd*
DATA_FILE_SIZE 50236466 data set size in bytes*
BYTE_COUNT 6566 header byte count* * * * * * * * * * * * * * * * * * * * * * * * * * * * * * * * * *
END_USGS_HEADER *
