BEGIN_USGS_DOQ_HEADER *
QUADRANGLE_NAME "WARM SPRINGS MOUNTAIN" 3.45 or 7.5-min. name*
QUADRANT NE quadrant indicator if cell size = 3.75-minutes*
WEST_LONGITUDE -118 33 45.000 signed deg min sec SDDD MM SS.SSS*
EAST_LONGITUDE -118 30 0.000 signed deg min sec SDDD MM SS.SSS*
NORTH_LATITUDE 34 37 30.000 signed deg min sec SDDD MM SS.SSS*
SOUTH_LATITUDE 34 33 45.000 signed deg min sec SDDD MM SS.SSS*
PRODUCTION_DATE 1995 11 13 yyyy mm dd*
RASTER_ORDER LEFT_RIGHT/TOP_BOTTOM video display order*
BAND_ORGANIZATION "SINGLE FILE" single file or BSQ, or BIL or BIP*
BAND_CONTENT BLACK&WHITE black&white or red green blue*
BITS_PER_PIXEL 8 radiometric resolution*
SAMPLES_AND_LINES 6526 7623 number of columns and rows*
HORIZONTAL_DATUM NAD83 primary horizontal datum*
HORIZONTAL_COORDINATE_SYSTEM UTM *
COORDINATE_ZONE 11 coordinate system zone number*
HORIZONTAL_UNITS METERS coordinate system units*
HORIZONTAL_RESOLUTION 1.00 pixel horiz. ground sample distance*
SECONDARY_HORIZONTAL_DATUM NAD27 secondary horizontal datum*
XY_ORIGIN 356273.000 3832877.000 coord. of upper left pixel pri. datum*
SECONDARY_XY_ORIGIN 356354.000 3832680.710 coord upper left pixel sec datum*
NATION US nation code*
STATE CA state fip code*
NW_QUAD_CORNER_XY 356765.610 3832568.140 XY coords. of pri. NW quad corner*
NE_QUAD_CORNER_XY 362495.470 3832481.110 XY coords. of pri. NE quad corner*
SE_QUAD_CORNER_XY 362392.420 3825549.710 XY coords. of pri. SE quad corner*
SW_QUAD_CORNER_XY 356658.260 3825636.670 XY coords. of pri. SW quad corner*
SECONDARY_NW_QUAD_XY 356762.330 3832371.740 XY coords. - sec. NW quad cor.*
SECONDARY_NE_QUAD_XY 362492.320 3832284.710 XY coords. - sec. NE quad cor.*
SECONDARY_SE_QUAD_XY 362389.270 3825353.500 XY coords. - sec. SE quad cor.*
SECONDARY_SW_QUAD_XY 356654.990 3825440.470 XY coords. - sec. SW quad cor.*
RMSE_XY 4.30 doq horiz. accuracy*
IMAGE_SOURCE "BLACK AND WHITE FILM" b&w, cir, natural color, other*
SOURCE_IMAGE_ID "NAPP 6860 143" source image id*
SOURCE_IMAGE_DATE 1994 6 1 source image date as yyyy mm dd*
IMAGE_SOURCE "BLACK AND WHITE FILM" b&w, cir, natural color, other*
SOURCE_IMAGE_ID "NAPP 6860 145" source image id*
SOURCE_IMAGE_DATE 1994 6 1 source image date as yyyy mm dd*
IMAGE_SOURCE "BLACK AND WHITE FILM" b&w, cir, natural color, other*
SOURCE_IMAGE_ID "NAPP 6860 182" source image id*
SOURCE_IMAGE_DATE 1994 6 1 source image date as yyyy mm dd*
SOURCE_DEM_DATE 1995 11 13 source dem date yyyy mm dd*
AGENCY "WESTERN MAPPING CENTER (WMC)" oversight agency*
PRODUCER "USDA FS GEOMETRONICS SERVICE CENTER" *
PRODUCTION_SYSTEM "DV2.6.1 6/95OV2.4 5/95" production system*
STANDARD_VERSION 1996 12 version of DOQ standard*
METADATA_DATE 1998 12 15 date created or changed, yyyy mm dd*
DATA_FILE_SIZE 49754224 data set size in bytes*
BYTE_COUNT 6526 header byte count* * * * * * * * * * * * * * * * * * * * * * * * * * * * * * * * *
END_USGS_HEADER *
