BEGIN_USGS_DOQ_HEADER *
QUADRANGLE_NAME "LANCASTER EAST" *
QUADRANT SW *
NORTH_LATITUDE 34 41 15.000 *
WEST_LONGITUDE -118 07 30.000 *
SOUTH_LATITUDE 34 37 30.000 *
EAST_LONGITUDE -118 03 45.000 *
PRODUCTION_DATE 1998 04 30 *
RASTER_ORDER LEFT_RIGHT/TOP_BOTTOM *
BAND_ORGANIZATION "SINGLE FILE" *
BAND_CONTENT BLACK&WHITE *
BITS_PER_PIXEL 8 *
SAMPLES_AND_LINES 6510 7620 *
HORIZONTAL_DATUM NAD83 *
HORIZONTAL_COORDINATE_SYSTEM UTM *
COORDINATE_ZONE 11 *
HORIZONTAL_UNITS METERS *
HORIZONTAL_RESOLUTION 1.000 *
SECONDARY_HORIZONTAL_DATUM NAD27 *
XY_ORIGIN 396480.000 3839280.000 *
SECONDARY_XY_ORIGIN 396560.628 3839084.090 *
NATION US *
STATE CA *
NW_QUAD_CORNER_XY 396950.778 3838964.688 *
NE_QUAD_CORNER_XY 402675.975 3838902.483 *
SE_QUAD_CORNER_XY 402602.877 3831971.438 *
SW_QUAD_CORNER_XY 396873.379 3832033.592 *
SECONDARY_NW_QUAD_XY 396948.414 3838768.088 *
SECONDARY_NE_QUAD_XY 402673.742 3838705.882 *
SECONDARY_SE_QUAD_XY 402600.647 3831775.030 *
SECONDARY_SW_QUAD_XY 396871.017 3831837.185 *
RMSE_XY 0.907 *
IMAGE_SOURCE "BLACK AND WHITE FILM" *
SOURCE_IMAGE_ID "NAPP 6850 224" *
SOURCE_IMAGE_DATE 1994 05 28 *
SOURCE_DEM_DATE 1956 01 01 *
AGENCY "WESTERN MAPPING CENTER (WMC)" *
PRODUCER "ANALYTICAL SURVEYS INC." *
PRODUCTION_SYSTEM "ORBIT OR_RECTIFY V.5.2" *
STANDARD_VERSION 1996 12 *
METADATA_DATE 1998 04 30 *
DATA_FILE_SIZE 49612710 *
BYTE_COUNT 6510 * * * * * * * * * * * * * * * * * * * * * * * * * * * * * * * * * * * * * * *
END_USGS_HEADER *
