BEGIN_USGS_DOQ_HEADER *
QUADRANGLE_NAME "LANCASTER WEST" *
QUADRANT NW *
NORTH_LATITUDE 34 45 00.000 *
WEST_LONGITUDE -118 15 00.000 *
SOUTH_LATITUDE 34 41 15.000 *
EAST_LONGITUDE -118 11 15.000 *
PRODUCTION_DATE 1998 04 30 *
RASTER_ORDER LEFT_RIGHT/TOP_BOTTOM *
BAND_ORGANIZATION "SINGLE FILE" *
BAND_CONTENT BLACK&WHITE *
BITS_PER_PIXEL 8 *
SAMPLES_AND_LINES 6510 7650 *
HORIZONTAL_DATUM NAD83 *
HORIZONTAL_COORDINATE_SYSTEM UTM *
COORDINATE_ZONE 11 *
HORIZONTAL_UNITS METERS *
HORIZONTAL_RESOLUTION 1.000 *
SECONDARY_HORIZONTAL_DATUM NAD27 *
XY_ORIGIN 385110.000 3846360.000 *
SECONDARY_XY_ORIGIN 385190.583 3846164.138 *
NATION US *
STATE CA *
NW_QUAD_CORNER_XY 385586.390 3846031.043 *
NE_QUAD_CORNER_XY 391307.368 3845961.668 *
SE_QUAD_CORNER_XY 391225.538 3839030.449 *
SW_QUAD_CORNER_XY 385500.251 3839099.767 *
SECONDARY_NW_QUAD_XY 385583.762 3845834.254 *
SECONDARY_NE_QUAD_XY 391304.870 3845764.878 *
SECONDARY_SE_QUAD_XY 391223.042 3838833.851 *
SECONDARY_SW_QUAD_XY 385497.625 3838903.171 *
RMSE_XY 1.178 *
IMAGE_SOURCE "BLACK AND WHITE FILM" *
SOURCE_IMAGE_ID "NAPP 6864 236" *
SOURCE_IMAGE_DATE 1994 05 31 *
SOURCE_DEM_DATE 1974 01 01 *
AGENCY "WESTERN MAPPING CENTER (WMC)" *
PRODUCER "ANALYTICAL SURVEYS INC." *
PRODUCTION_SYSTEM "ORBIT OR_RECTIFY V.5.2" *
STANDARD_VERSION 1996 12 *
METADATA_DATE 1998 04 30 *
DATA_FILE_SIZE 49808010 *
BYTE_COUNT 6510 * * * * * * * * * * * * * * * * * * * * * * * * * * * * * * * * * * * * * * *
END_USGS_HEADER *
