BEGIN_USGS_DOQ_HEADER *
QUADRANGLE_NAME "LAKE HUGHES" 3.45 or 7.5-min. name*
QUADRANT SE quadrant indicator if cell size = 3.75-minutes*
WEST_LONGITUDE -118 26 15.000 signed deg min sec SDDD MM SS.SSS*
EAST_LONGITUDE -118 22 30.000 signed deg min sec SDDD MM SS.SSS*
NORTH_LATITUDE 34 41 15.000 signed deg min sec SDDD MM SS.SSS*
SOUTH_LATITUDE 34 37 30.000 signed deg min sec SDDD MM SS.SSS*
PRODUCTION_DATE 1995 11 14 yyyy mm dd*
RASTER_ORDER LEFT_RIGHT/TOP_BOTTOM video display order*
BAND_ORGANIZATION "SINGLE FILE" single file or BSQ, or BIL or BIP*
BAND_CONTENT BLACK&WHITE black&white or red green blue*
BITS_PER_PIXEL 8 radiometric resolution*
SAMPLES_AND_LINES 6513 7616 number of columns and rows*
HORIZONTAL_DATUM NAD83 primary horizontal datum*
HORIZONTAL_COORDINATE_SYSTEM UTM *
COORDINATE_ZONE 11 coordinate system zone number*
HORIZONTAL_UNITS METERS coordinate system units*
HORIZONTAL_RESOLUTION 1.00 pixel horiz. ground sample distance*
SECONDARY_HORIZONTAL_DATUM NAD27 secondary horizontal datum*
XY_ORIGIN 367840.000 3839634.000 coord. of upper left pixel pri. datum*
SECONDARY_XY_ORIGIN 367920.840 3839437.920 coord upper left pixel sec datum*
NATION US nation code*
STATE CA state fip code*
NW_QUAD_CORNER_XY 368324.180 3839329.030 XY coords. of pri. NW quad corner*
NE_QUAD_CORNER_XY 374049.610 3839249.040 XY coords. of pri. NE quad corner*
SE_QUAD_CORNER_XY 373955.010 3832317.710 XY coords. of pri. SE quad corner*
SW_QUAD_CORNER_XY 368225.260 3832397.630 XY coords. of pri. SW quad corner*
SECONDARY_NW_QUAD_XY 368321.160 3839132.440 XY coords. - sec. NW quad cor.*
SECONDARY_NE_QUAD_XY 374046.730 3839052.450 XY coords. - sec. NE quad cor.*
SECONDARY_SE_QUAD_XY 373952.120 3832121.310 XY coords. - sec. SE quad cor.*
SECONDARY_SW_QUAD_XY 368222.250 3832201.230 XY coords. - sec. SW quad cor.*
RMSE_XY 3.50 doq horiz. accuracy*
IMAGE_SOURCE "BLACK AND WHITE FILM" b&w, cir, natural color, other*
SOURCE_IMAGE_ID "NAPP 6866 159" source image id*
SOURCE_IMAGE_DATE 1994 6 1 source image date as yyyy mm dd*
IMAGE_SOURCE "BLACK AND WHITE FILM" b&w, cir, natural color, other*
SOURCE_IMAGE_ID "NAPP 6866 157" source image id*
SOURCE_IMAGE_DATE 1994 6 1 source image date as yyyy mm dd*
IMAGE_SOURCE "BLACK AND WHITE FILM" b&w, cir, natural color, other*
SOURCE_IMAGE_ID "NAPP 6866 6862" source image id*
SOURCE_IMAGE_DATE 1994 6 1 source image date as yyyy mm dd*
IMAGE_SOURCE "BLACK AND WHITE FILM" b&w, cir, natural color, other*
SOURCE_IMAGE_ID "NAPP 6866 2" source image id*
SOURCE_IMAGE_DATE 1994 6 1 source image date as yyyy mm dd*
SOURCE_DEM_DATE 1995 11 14 source dem date yyyy mm dd*
AGENCY "WESTERN MAPPING CENTER (WMC)" oversight agency*
PRODUCER "USDA FS GEOMETRONICS SERVICE CENTER" *
PRODUCTION_SYSTEM "DV2.6.1 6/95OV2.4 5/95" production system*
STANDARD_VERSION 1996 12 version of DOQ standard*
METADATA_DATE 1998 12 17 date created or changed, yyyy mm dd*
DATA_FILE_SIZE 49609521 data set size in bytes*
BYTE_COUNT 6513 header byte count* * * * * * * * * * * * * * * * * * * * * * * * * * * * * *
END_USGS_HEADER *
