BEGIN_USGS_DOQ_HEADER *
QUADRANGLE_NAME "ROSAMOND LAKE" *
QUADRANT NW *
NORTH_LATITUDE 34 52 30.000 *
WEST_LONGITUDE -118 07 30.000 *
SOUTH_LATITUDE 34 48 45.000 *
EAST_LONGITUDE -118 03 45.000 *
PRODUCTION_DATE 1998 04 29 *
RASTER_ORDER LEFT_RIGHT/TOP_BOTTOM *
BAND_ORGANIZATION "SINGLE FILE" *
BAND_CONTENT BLACK&WHITE *
BITS_PER_PIXEL 8 *
SAMPLES_AND_LINES 6480 7620 *
HORIZONTAL_DATUM NAD83 *
HORIZONTAL_COORDINATE_SYSTEM UTM *
COORDINATE_ZONE 11 *
HORIZONTAL_UNITS METERS *
HORIZONTAL_RESOLUTION 1.000 *
SECONDARY_HORIZONTAL_DATUM NAD27 *
XY_ORIGIN 396720.000 3860070.000 *
SECONDARY_XY_ORIGIN 396800.515 3859874.389 *
NATION US *
STATE CA *
NW_QUAD_CORNER_XY 397183.711 3859758.387 *
NE_QUAD_CORNER_XY 402895.962 3859696.029 *
SE_QUAD_CORNER_XY 402822.517 3852764.778 *
SW_QUAD_CORNER_XY 397105.944 3852827.086 *
SECONDARY_NW_QUAD_XY 397181.341 3859561.215 *
SECONDARY_NE_QUAD_XY 402893.724 3859498.855 *
SECONDARY_SE_QUAD_XY 402820.281 3852567.794 *
SECONDARY_SW_QUAD_XY 397103.576 3852630.103 *
RMSE_XY 1.511 *
IMAGE_SOURCE "BLACK AND WHITE FILM" *
SOURCE_IMAGE_ID "NAPP 6850 230" *
SOURCE_IMAGE_DATE 1994 05 28 *
SOURCE_DEM_DATE 1972 01 01 *
AGENCY "WESTERN MAPPING CENTER (WMC)" *
PRODUCER "ANALYTICAL SURVEYS INC." *
PRODUCTION_SYSTEM "ORBIT OR_RECTIFY V.5.2" *
STANDARD_VERSION 1996 12 *
METADATA_DATE 1998 04 30 *
DATA_FILE_SIZE 49384080 *
BYTE_COUNT 6480 * * * * * * * * * * * * * * * * * * * * * * * * * * * * * * * * * * * * * *
END_USGS_HEADER *
