BEGIN_USGS_DOQ_HEADER *
QUADRANGLE_NAME "ROSAMOND" *
QUADRANT NE *
NORTH_LATITUDE 34 52 30.000 *
WEST_LONGITUDE -118 11 15.000 *
SOUTH_LATITUDE 34 48 45.000 *
EAST_LONGITUDE -118 07 30.000 *
PRODUCTION_DATE 1998 04 29 *
RASTER_ORDER LEFT_RIGHT/TOP_BOTTOM *
BAND_ORGANIZATION "SINGLE FILE" *
BAND_CONTENT BLACK&WHITE *
BITS_PER_PIXEL 8 *
SAMPLES_AND_LINES 6510 7620 *
HORIZONTAL_DATUM NAD83 *
HORIZONTAL_COORDINATE_SYSTEM UTM *
COORDINATE_ZONE 11 *
HORIZONTAL_UNITS METERS *
HORIZONTAL_RESOLUTION 1.000 *
SECONDARY_HORIZONTAL_DATUM NAD27 *
XY_ORIGIN 390990.000 3860130.000 *
SECONDARY_XY_ORIGIN 391070.538 3859934.365 *
NATION US *
STATE CA *
NW_QUAD_CORNER_XY 391471.417 3859824.310 *
NE_QUAD_CORNER_XY 397183.711 3859758.387 *
SE_QUAD_CORNER_XY 397105.944 3852827.086 *
SW_QUAD_CORNER_XY 391389.328 3852892.955 *
SECONDARY_NW_QUAD_XY 391468.915 3859627.139 *
SECONDARY_NE_QUAD_XY 397181.341 3859561.215 *
SECONDARY_SE_QUAD_XY 397103.576 3852630.103 *
SECONDARY_SW_QUAD_XY 391386.828 3852695.974 *
RMSE_XY 0.578 *
IMAGE_SOURCE "BLACK AND WHITE FILM" *
SOURCE_IMAGE_ID "NAPP 6866 205" *
SOURCE_IMAGE_DATE 1994 06 02 *
SOURCE_DEM_DATE 1972 01 01 *
AGENCY "WESTERN MAPPING CENTER (WMC)" *
PRODUCER "ANALYTICAL SURVEYS INC." *
PRODUCTION_SYSTEM "ORBIT OR_RECTIFY V.5.2" *
STANDARD_VERSION 1996 12 *
METADATA_DATE 1998 04 29 *
DATA_FILE_SIZE 49612710 *
BYTE_COUNT 6510 * * * * * * * * * * * * * * * * * * * * * * * * * * * * * * * * * * * * * * *
END_USGS_HEADER *
