BEGIN_USGS_DOQ_HEADER *
QUADRANGLE_NAME "NEENACH SCHOOL" 3.45 or 7.5-min. name*
QUADRANT NW quadrant indicator if cell size = 3.75-minutes*
WEST_LONGITUDE -118 37 30.000 signed deg min sec SDDD MM SS.SSS*
EAST_LONGITUDE -118 33 45.000 signed deg min sec SDDD MM SS.SSS*
NORTH_LATITUDE 34 52 30.000 signed deg min sec SDDD MM SS.SSS*
SOUTH_LATITUDE 34 48 45.000 signed deg min sec SDDD MM SS.SSS*
PRODUCTION_DATE 1997 1 9 yyyy mm dd*
RASTER_ORDER LEFT_RIGHT/TOP_BOTTOM video display order*
BAND_ORGANIZATION "SINGLE FILE" single file or BSQ, or BIL or BIP*
BAND_CONTENT BLACK&WHITE black&white or red green blue*
BITS_PER_PIXEL 8 radiometric resolution*
SAMPLES_AND_LINES 6512 7627 number of columns and rows*
HORIZONTAL_DATUM NAD83 primary horizontal datum*
HORIZONTAL_COORDINATE_SYSTEM UTM *
COORDINATE_ZONE 11 coordinate system zone number*
HORIZONTAL_UNITS METERS coordinate system units*
HORIZONTAL_RESOLUTION 1.00 pixel horiz. ground sample distance*
SECONDARY_HORIZONTAL_DATUM NAD27 secondary horizontal datum*
XY_ORIGIN 350986.000 3860687.000 coord. of upper left pixel pri. datum*
SECONDARY_XY_ORIGIN 351067.000 3860491.000 coord upper left pixel sec datum*
NATION US nation code*
STATE CA state fip code*
NW_QUAD_CORNER_XY 351483.964 3860385.603 XY coords. of pri. NW quad corner*
NE_QUAD_CORNER_XY 357196.623 3860294.720 XY coords. of pri. NE quad corner*
SE_QUAD_CORNER_XY 357088.593 3853362.983 XY coords. of pri. SE quad corner*
SW_QUAD_CORNER_XY 351371.609 3853453.793 XY coords. of pri. SW quad corner*
SECONDARY_NW_QUAD_XY 351480.540 3860188.445 XY coords. - sec. NW quad cor.*
SECONDARY_NE_QUAD_XY 357193.331 3860097.559 XY coords. - sec. NE quad cor.*
SECONDARY_SE_QUAD_XY 357085.304 3853166.013 XY coords. - sec. SE quad cor.*
SECONDARY_SW_QUAD_XY 351368.189 3853256.825 XY coords. - sec. SW quad cor.*
RMSE_XY 1.60 doq horiz. accuracy*
IMAGE_SOURCE "BLACK AND WHITE FILM" b&w, cir, natural color, other*
SOURCE_IMAGE_ID "NAPP 6864 245" source image id*
SOURCE_IMAGE_DATE 1994 5 31 source image date as yyyy mm dd*
SOURCE_DEM_DATE 1997 1 9 source dem date yyyy mm dd*
AGENCY "WESTERN MAPPING CENTER (WMC)" oversight agency*
PRODUCER "USDA FS GEOMETRONICS SERVICE CENTER" *
PRODUCTION_SYSTEM "DV2.6.3 10/9OV2.4 5/95" production system*
STANDARD_VERSION 1996 12 version of DOQ standard*
METADATA_DATE 1998 12 14 date created or changed, yyyy mm dd*
DATA_FILE_SIZE 49673536 data set size in bytes*
BYTE_COUNT 6512 header byte count* * * * * * * * * * * * * * * * * * * * * * * * * * * * * * * * * * * * * * *
END_USGS_HEADER *
