BEGIN_USGS_DOQ_HEADER *
QUADRANGLE_NAME "LA LIEBRE RANCH" 3.45 or 7.5-min. name*
QUADRANT SW quadrant indicator if cell size = 3.75-minutes*
WEST_LONGITUDE -118 45 0.000 signed deg min sec SDDD MM SS.SSS*
EAST_LONGITUDE -118 41 15.000 signed deg min sec SDDD MM SS.SSS*
NORTH_LATITUDE 34 48 45.000 signed deg min sec SDDD MM SS.SSS*
SOUTH_LATITUDE 34 45 0.000 signed deg min sec SDDD MM SS.SSS*
PRODUCTION_DATE 1997 1 13 yyyy mm dd*
RASTER_ORDER LEFT_RIGHT/TOP_BOTTOM video display order*
BAND_ORGANIZATION "SINGLE FILE" single file or BSQ, or BIL or BIP*
BAND_CONTENT BLACK&WHITE black&white or red green blue*
BITS_PER_PIXEL 8 radiometric resolution*
SAMPLES_AND_LINES 6525 7634 number of columns and rows*
HORIZONTAL_DATUM NAD83 primary horizontal datum*
HORIZONTAL_COORDINATE_SYSTEM UTM *
COORDINATE_ZONE 11 coordinate system zone number*
HORIZONTAL_UNITS METERS coordinate system units*
HORIZONTAL_RESOLUTION 1.00 pixel horiz. ground sample distance*
SECONDARY_HORIZONTAL_DATUM NAD27 secondary horizontal datum*
XY_ORIGIN 339431.000 3853951.000 coord. of upper left pixel pri. datum*
SECONDARY_XY_ORIGIN 339511.980 3853754.980 coord upper left pixel sec datum*
NATION US nation code*
STATE CA state fip code*
NW_QUAD_CORNER_XY 339937.540 3853646.070 XY coords. of pri. NW quad corner*
NE_QUAD_CORNER_XY 345654.650 3853548.140 XY coords. of pri. NE quad corner*
SE_QUAD_CORNER_XY 345538.150 3846616.310 XY coords. of pri. SE quad corner*
SW_QUAD_CORNER_XY 339816.720 3846714.170 XY coords. of pri. SW quad corner*
SECONDARY_NW_QUAD_XY 339933.850 3853449.110 XY coords. - sec. NW quad cor.*
SECONDARY_NE_QUAD_XY 345651.090 3853351.170 XY coords. - sec. NE quad cor.*
SECONDARY_SE_QUAD_XY 345534.600 3846419.540 XY coords. - sec. SE quad cor.*
SECONDARY_SW_QUAD_XY 339813.040 3846517.400 XY coords. - sec. SW quad cor.*
RMSE_XY 4.70 doq horiz. accuracy*
IMAGE_SOURCE "BLACK AND WHITE FILM" b&w, cir, natural color, other*
SOURCE_IMAGE_ID "NAPP 6860 230" source image id*
SOURCE_IMAGE_DATE 1994 5 31 source image date as yyyy mm dd*
IMAGE_SOURCE "BLACK AND WHITE FILM" b&w, cir, natural color, other*
SOURCE_IMAGE_ID "NAPP 6860 232" source image id*
SOURCE_IMAGE_DATE 1994 5 31 source image date as yyyy mm dd*
IMAGE_SOURCE "BLACK AND WHITE FILM" b&w, cir, natural color, other*
SOURCE_IMAGE_ID "NAPP 6860 6864" source image id*
SOURCE_IMAGE_DATE 1994 5 31 source image date as yyyy mm dd*
IMAGE_SOURCE "BLACK AND WHITE FILM" b&w, cir, natural color, other*
SOURCE_IMAGE_ID "NAPP 6860 2" source image id*
SOURCE_IMAGE_DATE 1994 5 31 source image date as yyyy mm dd*
SOURCE_DEM_DATE 1997 1 13 source dem date yyyy mm dd*
AGENCY "WESTERN MAPPING CENTER (WMC)" oversight agency*
PRODUCER "USDA FS GEOMETRONICS SERVICE CENTER" *
PRODUCTION_SYSTEM "DV2.6.3 10/9OV2.4 5/95" production system*
STANDARD_VERSION 1996 12 version of DOQ standard*
METADATA_DATE 1998 12 14 date created or changed, yyyy mm dd*
DATA_FILE_SIZE 49818375 data set size in bytes*
BYTE_COUNT 6525 header byte count* * * * * * * * * * * * * * * * * * * * * * * * * * * * * *
END_USGS_HEADER *
