BEGIN_USGS_DOQ_HEADER *
QUADRANGLE_NAME "BISSELL" *
QUADRANT NW *
NORTH_LATITUDE 35 00 00.000 *
WEST_LONGITUDE -118 07 30.000 *
SOUTH_LATITUDE 34 56 15.000 *
EAST_LONGITUDE -118 03 45.000 *
PRODUCTION_DATE 1998 04 29 *
RASTER_ORDER LEFT_RIGHT/TOP_BOTTOM *
BAND_ORGANIZATION "SINGLE FILE" *
BAND_CONTENT BLACK&WHITE *
BITS_PER_PIXEL 8 *
SAMPLES_AND_LINES 6480 7620 *
HORIZONTAL_DATUM NAD83 *
HORIZONTAL_COORDINATE_SYSTEM UTM *
COORDINATE_ZONE 11 *
HORIZONTAL_UNITS METERS *
HORIZONTAL_RESOLUTION 1.000 *
SECONDARY_HORIZONTAL_DATUM NAD27 *
XY_ORIGIN 396870.000 3873930.000 *
SECONDARY_XY_ORIGIN 396950.482 3873734.600 *
NATION US *
STATE CA *
NW_QUAD_CORNER_XY 397339.613 3873621.197 *
NE_QUAD_CORNER_XY 403043.200 3873558.739 *
SE_QUAD_CORNER_XY 402969.523 3866627.349 *
SW_QUAD_CORNER_XY 397261.601 3866689.758 *
SECONDARY_NW_QUAD_XY 397337.239 3873423.646 *
SECONDARY_NE_QUAD_XY 403040.957 3873361.186 *
SECONDARY_SE_QUAD_XY 402967.283 3866429.986 *
SECONDARY_SW_QUAD_XY 397259.228 3866492.395 *
RMSE_XY 1.085 *
IMAGE_SOURCE "BLACK AND WHITE FILM" *
SOURCE_IMAGE_ID "NAPP 6850 234" *
SOURCE_IMAGE_DATE 1994 05 28 *
SOURCE_DEM_DATE 1973 01 01 *
AGENCY "WESTERN MAPPING CENTER (WMC)" *
PRODUCER "ANALYTICAL SURVEYS INC." *
PRODUCTION_SYSTEM "ORBIT OR_RECTIFY V.5.2" *
STANDARD_VERSION 1996 12 *
METADATA_DATE 1998 04 30 *
DATA_FILE_SIZE 49384080 *
BYTE_COUNT 6480 * * * * * * * * * * * * * * * * * * * * * * * * * * * * * * * * * * * * * *
END_USGS_HEADER *
