BEGIN_USGS_DOQ_HEADER *
QUADRANGLE_NAME "TYLERHORSE CANYON" 3.45 or 7.5-min. name*
QUADRANT NW quadrant indicator if cell size = 3.75-minutes*
WEST_LONGITUDE -118 30 0.000 signed deg min sec SDDD MM SS.SSS*
EAST_LONGITUDE -118 26 15.000 signed deg min sec SDDD MM SS.SSS*
NORTH_LATITUDE 35 0 0.000 signed deg min sec SDDD MM SS.SSS*
SOUTH_LATITUDE 34 56 15.000 signed deg min sec SDDD MM SS.SSS*
PRODUCTION_DATE 1997 1 15 yyyy mm dd*
RASTER_ORDER LEFT_RIGHT/TOP_BOTTOM video display order*
BAND_ORGANIZATION "SINGLE FILE" single file or BSQ, or BIL or BIP*
BAND_CONTENT BLACK&WHITE black&white or red green blue*
BITS_PER_PIXEL 8 radiometric resolution*
SAMPLES_AND_LINES 6492 7620 number of columns and rows*
HORIZONTAL_DATUM NAD83 primary horizontal datum*
HORIZONTAL_COORDINATE_SYSTEM UTM *
COORDINATE_ZONE 11 coordinate system zone number*
HORIZONTAL_UNITS METERS coordinate system units*
HORIZONTAL_RESOLUTION 1.00 pixel horiz. ground sample distance*
SECONDARY_HORIZONTAL_DATUM NAD27 secondary horizontal datum*
XY_ORIGIN 362628.000 3874372.000 coord. of upper left pixel pri. datum*
SECONDARY_XY_ORIGIN 362708.000 3874177.000 coord upper left pixel sec datum*
NATION US nation code*
STATE CA state fip code*
NW_QUAD_CORNER_XY 363117.124 3874070.933 XY coords. of pri. NW quad corner*
NE_QUAD_CORNER_XY 368820.999 3873987.049 XY coords. of pri. NE quad corner*
SE_QUAD_CORNER_XY 368721.304 3867055.317 XY coords. of pri. SE quad corner*
SW_QUAD_CORNER_XY 363013.092 3867139.135 XY coords. of pri. SW quad corner*
SECONDARY_NW_QUAD_XY 363113.958 3873873.393 XY coords. - sec. NW quad cor.*
SECONDARY_NE_QUAD_XY 368817.965 3873789.506 XY coords. - sec. NE quad cor.*
SECONDARY_SE_QUAD_XY 368718.273 3866857.964 XY coords. - sec. SE quad cor.*
SECONDARY_SW_QUAD_XY 363009.929 3866941.783 XY coords. - sec. SW quad cor.*
RMSE_XY 3.60 doq horiz. accuracy*
IMAGE_SOURCE "BLACK AND WHITE FILM" b&w, cir, natural color, other*
SOURCE_IMAGE_ID "NAPP 1849 133" source image id*
SOURCE_IMAGE_DATE 1989 9 8 source image date as yyyy mm dd*
SOURCE_DEM_DATE 1997 1 15 source dem date yyyy mm dd*
AGENCY "WESTERN MAPPING CENTER (WMC)" oversight agency*
PRODUCER "USDA FS GEOMETRONICS SERVICE CENTER" *
PRODUCTION_SYSTEM "DV2.6.3 10/9OV2.4 5/95" production system*
STANDARD_VERSION 1996 12 version of DOQ standard*
METADATA_DATE 1998 12 14 date created or changed, yyyy mm dd*
DATA_FILE_SIZE 49475532 data set size in bytes*
BYTE_COUNT 6492 header byte count* * * * * * * * * * * * * * * * * * * * * * * * * * * * * * * * * * * * * * *
END_USGS_HEADER *
