BEGIN_USGS_DOQ_HEADER *
QUADRANGLE_NAME "LIEBRE TWINS" *
QUADRANT SW *
NORTH_LATITUDE 34 56 15.000 *
WEST_LONGITUDE -118 37 30.000 *
SOUTH_LATITUDE 34 52 30.000 *
EAST_LONGITUDE -118 33 45.000 *
PRODUCTION_DATE 1998 04 28 *
RASTER_ORDER LEFT_RIGHT/TOP_BOTTOM *
BAND_ORGANIZATION "SINGLE FILE" *
BAND_CONTENT BLACK&WHITE *
BITS_PER_PIXEL 8 *
SAMPLES_AND_LINES 6540 7650 *
HORIZONTAL_DATUM NAD83 *
HORIZONTAL_COORDINATE_SYSTEM UTM *
COORDINATE_ZONE 11 *
HORIZONTAL_UNITS METERS *
HORIZONTAL_RESOLUTION 1.000 *
SECONDARY_HORIZONTAL_DATUM NAD27 *
XY_ORIGIN 351090.000 3867630.000 *
SECONDARY_XY_ORIGIN 351170.899 3867434.328 *
NATION US *
STATE CA *
NW_QUAD_CORNER_XY 351596.495 3867317.478 *
NE_QUAD_CORNER_XY 357304.823 3867226.522 *
SE_QUAD_CORNER_XY 357196.623 3860294.719 *
SW_QUAD_CORNER_XY 351483.964 3860385.603 *
SECONDARY_NW_QUAD_XY 351593.068 3867120.130 *
SECONDARY_NE_QUAD_XY 357301.528 3867029.172 *
SECONDARY_SE_QUAD_XY 357193.331 3860097.559 *
SECONDARY_SW_QUAD_XY 351480.540 3860188.445 *
RMSE_XY 1.578 *
IMAGE_SOURCE "BLACK AND WHITE FILM" *
SOURCE_IMAGE_ID "NAPP 6864 247" *
SOURCE_IMAGE_DATE 1994 05 31 *
SOURCE_IMAGE_ID "NAPP 6864 249" *
SOURCE_IMAGE_DATE 1994 05 31 *
SOURCE_DEM_DATE 1965 01 01 *
AGENCY "WESTERN MAPPING CENTER (WMC)" *
PRODUCER "ANALYTICAL SURVEYS INC." *
PRODUCTION_SYSTEM "ORBIT OR_RECTIFY V.5.2" *
STANDARD_VERSION 1996 12 *
METADATA_DATE 1998 04 29 *
DATA_FILE_SIZE 50037540 *
BYTE_COUNT 6540 * * * * * * * * * * * * * * * * * * * * * * * * * * * * * * * * * * * * *
END_USGS_HEADER *
