BEGIN_USGS_DOQ_HEADER *
QUADRANGLE_NAME "SANTA CRUZ ISLAND B" 3.45 or 7.5-min. name*
QUADRANT NW quadrant indicator if cell size = 3.75-minutes*
WEST_LONGITUDE -119 52 30.000 signed deg min sec SDDD MM SS.SSS*
EAST_LONGITUDE -119 48 45.000 signed deg min sec SDDD MM SS.SSS*
NORTH_LATITUDE 34 7 30.000 signed deg min sec SDDD MM SS.SSS*
SOUTH_LATITUDE 34 3 45.000 signed deg min sec SDDD MM SS.SSS*
PRODUCTION_DATE 1995 9 15 yyyy mm dd*
RASTER_ORDER LEFT_RIGHT/TOP_BOTTOM video display order*
BAND_ORGANIZATION "SINGLE FILE" single file or BSQ, or BIL or BIP*
BAND_CONTENT BLACK&WHITE black&white or red green blue*
BITS_PER_PIXEL 8 radiometric resolution*
SAMPLES_AND_LINES 6652 7699 number of columns and rows*
HORIZONTAL_DATUM NAD83 primary horizontal datum*
HORIZONTAL_COORDINATE_SYSTEM UTM *
COORDINATE_ZONE 11 coordinate system zone number*
HORIZONTAL_UNITS METERS coordinate system units*
HORIZONTAL_RESOLUTION 1.00 pixel horiz. ground sample distance*
SECONDARY_HORIZONTAL_DATUM NAD27 secondary horizontal datum*
XY_ORIGIN 234263.000 3780053.000 coord. of upper left pixel pri. datum*
SECONDARY_XY_ORIGIN 234346.003 3779855.544 coord upper left pixel sec datum*
NATION US nation code*
STATE CA state fip code*
NW_QUAD_CORNER_XY 234847.953 3779749.760 XY coords. of pri. NW quad corner*
NE_QUAD_CORNER_XY 240613.876 3779589.080 XY coords. of pri. NE quad corner*
SE_QUAD_CORNER_XY 240422.950 3772655.972 XY coords. of pri. SE quad corner*
SW_QUAD_CORNER_XY 234652.774 3772816.511 XY coords. of pri. SW quad corner*
SECONDARY_NW_QUAD_XY 234841.958 3779554.993 XY coords. - sec. NW quad cor.*
SECONDARY_NE_QUAD_XY 240608.011 3779394.310 XY coords. - sec. NE quad cor.*
SECONDARY_SE_QUAD_XY 240417.092 3772461.401 XY coords. - sec. SE quad cor.*
SECONDARY_SW_QUAD_XY 234646.785 3772621.944 XY coords. - sec. SW quad cor.*
RMSE_XY 3.00 doq horiz. accuracy*
IMAGE_SOURCE "BLACK AND WHITE FILM" b&w, cir, natural color, other*
SOURCE_IMAGE_ID "NAPP 6921 150" source image id*
SOURCE_IMAGE_DATE 1994 9 3 source image date as yyyy mm dd*
SOURCE_DEM_DATE 1995 9 15 source dem date yyyy mm dd*
AGENCY "WESTERN MAPPING CENTER (WMC)" oversight agency*
PRODUCER "WMC" producer/contractor*
PRODUCTION_SYSTEM "DV2.6.1 6/95OV2.4 5/95" production system*
STANDARD_VERSION 1996 12 version of DOQ standard*
METADATA_DATE 1997 6 27 date created or changed, yyyy mm dd*
DATA_FILE_SIZE 51220400 data set size in bytes*
BYTE_COUNT 6652 header byte count* * * * * * * * * * * * * * * * * * * * * * * * * * * * * * * * * * * * * * * * *
END_USGS_HEADER *
