BEGIN_USGS_DOQ_HEADER *
QUADRANGLE_NAME "OXNARD" *
QUADRANT SW *
NORTH_LATITUDE 34 11 15.000 *
WEST_LONGITUDE -119 15 00.000 *
SOUTH_LATITUDE 34 07 30.000 *
EAST_LONGITUDE -119 11 15.000 *
PRODUCTION_DATE 1998 08 22 *
RASTER_ORDER LEFT_RIGHT/TOP_BOTTOM *
BAND_ORGANIZATION "SINGLE FILE" *
BAND_CONTENT BLACK&WHITE *
BITS_PER_PIXEL 8 *
SAMPLES_AND_LINES 6630 7680 *
HORIZONTAL_DATUM NAD83 *
HORIZONTAL_COORDINATE_SYSTEM UTM *
COORDINATE_ZONE 11 *
HORIZONTAL_UNITS METERS *
HORIZONTAL_RESOLUTION 1.000 *
SECONDARY_HORIZONTAL_DATUM NAD27 *
XY_ORIGIN 292110.000 3785550.000 *
SECONDARY_XY_ORIGIN 292192.227 3785352.568 *
NATION US *
STATE CA *
NW_QUAD_CORNER_XY 292655.220 3785234.249 *
NE_QUAD_CORNER_XY 298415.852 3785108.837 *
SE_QUAD_CORNER_XY 298267.188 3778176.903 *
SW_QUAD_CORNER_XY 292502.302 3778302.205 *
SECONDARY_NW_QUAD_XY 292650.526 3785039.251 *
SECONDARY_NE_QUAD_XY 298411.288 3784913.837 *
SECONDARY_SE_QUAD_XY 298262.628 3777982.101 *
SECONDARY_SW_QUAD_XY 292497.612 3778107.406 *
RMSE_XY 1.050 *
IMAGE_SOURCE "BLACK AND WHITE FILM" *
SOURCE_IMAGE_ID "NAPP 6921 172" *
SOURCE_IMAGE_DATE 1994 09 03 *
SOURCE_DEM_DATE 1998 01 01 *
AGENCY "WESTERN MAPPING CENTER (WMC)" *
PRODUCER "ANALYTICAL SURVEYS INC." *
PRODUCTION_SYSTEM "ORBIT OR_RECTIFY V.5.2" *
STANDARD_VERSION 1996 12 *
METADATA_DATE 1998 08 24 *
DATA_FILE_SIZE 50925030 *
BYTE_COUNT 6630 * * * * * * * * * * * * * * * * * * * * * * * * * * * * * * * * * * * * * * * *
END_USGS_HEADER *
