BEGIN_USGS_DOQ_HEADER *
QUADRANGLE_NAME "SANTA PAULA" *
QUADRANT NE *
NORTH_LATITUDE 34 22 30.000 *
WEST_LONGITUDE -119 03 45.000 *
SOUTH_LATITUDE 34 18 45.000 *
EAST_LONGITUDE -119 00 00.000 *
PRODUCTION_DATE 1998 09 12 *
RASTER_ORDER LEFT_RIGHT/TOP_BOTTOM *
BAND_ORGANIZATION "SINGLE FILE" *
BAND_CONTENT BLACK&WHITE *
BITS_PER_PIXEL 8 *
SAMPLES_AND_LINES 6600 7680 *
HORIZONTAL_DATUM NAD83 *
HORIZONTAL_COORDINATE_SYSTEM UTM *
COORDINATE_ZONE 11 *
HORIZONTAL_UNITS METERS *
HORIZONTAL_RESOLUTION 1.000 *
SECONDARY_HORIZONTAL_DATUM NAD27 *
XY_ORIGIN 309810.000 3805980.000 *
SECONDARY_XY_ORIGIN 309891.902 3805782.857 *
NATION US *
STATE CA *
NW_QUAD_CORNER_XY 310358.679 3805664.174 *
NE_QUAD_CORNER_XY 316106.252 3805549.079 *
SE_QUAD_CORNER_XY 315969.689 3798617.267 *
SW_QUAD_CORNER_XY 310217.843 3798732.264 *
SECONDARY_NW_QUAD_XY 310354.364 3805468.576 *
SECONDARY_NE_QUAD_XY 316102.068 3805353.479 *
SECONDARY_SE_QUAD_XY 315965.509 3798421.863 *
SECONDARY_SW_QUAD_XY 310213.532 3798536.862 *
RMSE_XY 4.691 *
IMAGE_SOURCE "BLACK AND WHITE FILM" *
SOURCE_IMAGE_ID "NAPP 6925 204" *
SOURCE_IMAGE_DATE 1994 06 01 *
SOURCE_IMAGE_ID "NAPP 6921 225" *
SOURCE_IMAGE_DATE 1994 09 03 *
SOURCE_IMAGE_ID "NAPP 6868 30" *
SOURCE_IMAGE_DATE 1994 06 01 *
SOURCE_DEM_DATE 1998 01 01 *
AGENCY "WESTERN MAPPING CENTER (WMC)" *
PRODUCER "ANALYTICAL SURVEYS INC." *
PRODUCTION_SYSTEM "ORBIT OR_RECTIFY V.5.2" *
STANDARD_VERSION 1996 12 *
METADATA_DATE 1998 09 15 *
DATA_FILE_SIZE 50694600 *
BYTE_COUNT 6600 * * * * * * * * * * * * * * * * * * * * * * * * * * * * * * * * * * * *
END_USGS_HEADER *
