BEGIN_USGS_DOQ_HEADER *
QUADRANGLE_NAME "SATICOY" *
QUADRANT NE *
NORTH_LATITUDE 34 22 30.000 *
WEST_LONGITUDE -119 11 15.000 *
SOUTH_LATITUDE 34 18 45.000 *
EAST_LONGITUDE -119 07 30.000 *
PRODUCTION_DATE 1998 08 25 *
RASTER_ORDER LEFT_RIGHT/TOP_BOTTOM *
BAND_ORGANIZATION "SINGLE FILE" *
BAND_CONTENT BLACK&WHITE *
BITS_PER_PIXEL 8 *
SAMPLES_AND_LINES 6600 7680 *
HORIZONTAL_DATUM NAD83 *
HORIZONTAL_COORDINATE_SYSTEM UTM *
COORDINATE_ZONE 11 *
HORIZONTAL_UNITS METERS *
HORIZONTAL_RESOLUTION 1.000 *
SECONDARY_HORIZONTAL_DATUM NAD27 *
XY_ORIGIN 298320.000 3806220.000 *
SECONDARY_XY_ORIGIN 298402.073 3806022.781 *
NATION US *
STATE CA *
NW_QUAD_CORNER_XY 298863.284 3805905.003 *
NE_QUAD_CORNER_XY 304611.024 3805782.815 *
SE_QUAD_CORNER_XY 304465.914 3798850.804 *
SW_QUAD_CORNER_XY 298713.900 3798972.887 *
SECONDARY_NW_QUAD_XY 298858.707 3805709.410 *
SECONDARY_NE_QUAD_XY 304606.578 3805587.220 *
SECONDARY_SE_QUAD_XY 304461.472 3798655.405 *
SECONDARY_SW_QUAD_XY 298709.327 3798777.491 *
RMSE_XY 3.156 *
IMAGE_SOURCE "BLACK AND WHITE FILM" *
SOURCE_IMAGE_ID "NAPP 6921 245" *
SOURCE_IMAGE_DATE 1994 09 03 *
SOURCE_DEM_DATE 1998 01 01 *
AGENCY "WESTERN MAPPING CENTER (WMC)" *
PRODUCER "ANALYTICAL SURVEYS INC." *
PRODUCTION_SYSTEM "ORBIT OR_RECTIFY V.5.2" *
STANDARD_VERSION 1996 12 *
METADATA_DATE 1998 08 26 *
DATA_FILE_SIZE 50694600 *
BYTE_COUNT 6600 * * * * * * * * * * * * * * * * * * * * * * * * * * * * * * * * * * * * * * * *
END_USGS_HEADER *
