BEGIN_USGS_DOQ_HEADER *
QUADRANGLE_NAME "VENTURA" *
QUADRANT SW *
NORTH_LATITUDE 34 18 45.000 *
WEST_LONGITUDE -119 22 30.000 *
SOUTH_LATITUDE 34 15 00.000 *
EAST_LONGITUDE -119 18 45.000 *
PRODUCTION_DATE 1998 08 25 *
RASTER_ORDER LEFT_RIGHT/TOP_BOTTOM *
BAND_ORGANIZATION "SINGLE FILE" *
BAND_CONTENT BLACK&WHITE *
BITS_PER_PIXEL 8 *
SAMPLES_AND_LINES 6630 7710 *
HORIZONTAL_DATUM NAD83 *
HORIZONTAL_COORDINATE_SYSTEM UTM *
COORDINATE_ZONE 11 *
HORIZONTAL_UNITS METERS *
HORIZONTAL_RESOLUTION 1.000 *
SECONDARY_HORIZONTAL_DATUM NAD27 *
XY_ORIGIN 280890.000 3799680.000 *
SECONDARY_XY_ORIGIN 280972.373 3799482.728 *
NATION US *
STATE CA *
NW_QUAD_CORNER_XY 281457.319 3799360.403 *
NE_QUAD_CORNER_XY 287209.605 3799227.686 *
SE_QUAD_CORNER_XY 287051.924 3792295.413 *
SW_QUAD_CORNER_XY 281295.369 3792428.016 *
SECONDARY_NW_QUAD_XY 281452.354 3799165.016 *
SECONDARY_NE_QUAD_XY 287204.771 3799032.296 *
SECONDARY_SE_QUAD_XY 287047.094 3792100.220 *
SECONDARY_SW_QUAD_XY 281290.409 3792232.826 *
RMSE_XY 2.439 *
IMAGE_SOURCE "BLACK AND WHITE FILM" *
SOURCE_IMAGE_ID "NAPP 6921 196" *
SOURCE_IMAGE_DATE 1994 09 03 *
SOURCE_IMAGE_ID "NAPP 6921 197" *
SOURCE_IMAGE_DATE 1994 09 03 *
SOURCE_DEM_DATE 1967 01 01 *
AGENCY "WESTERN MAPPING CENTER (WMC)" *
PRODUCER "ANALYTICAL SURVEYS INC." *
PRODUCTION_SYSTEM "ORBIT OR_RECTIFY V.5.2" *
STANDARD_VERSION 1996 12 *
METADATA_DATE 1998 08 26 *
DATA_FILE_SIZE 51123930 *
BYTE_COUNT 6630 * * * * * * * * * * * * * * * * * * * * * * * * * * * * * * * * * * * * * *
END_USGS_HEADER *
