BEGIN_USGS_DOQ_HEADER *
QUADRANGLE_NAME "PITAS POINT" *
QUADRANT NW *
NORTH_LATITUDE 34 22 30.000 *
WEST_LONGITUDE -119 30 00.000 *
SOUTH_LATITUDE 34 18 45.000 *
EAST_LONGITUDE -119 26 15.000 *
PRODUCTION_DATE 1998 08 25 *
RASTER_ORDER LEFT_RIGHT/TOP_BOTTOM *
BAND_ORGANIZATION "SINGLE FILE" *
BAND_CONTENT BLACK&WHITE *
BITS_PER_PIXEL 8 *
SAMPLES_AND_LINES 6630 7710 *
HORIZONTAL_DATUM NAD83 *
HORIZONTAL_COORDINATE_SYSTEM UTM *
COORDINATE_ZONE 11 *
HORIZONTAL_UNITS METERS *
HORIZONTAL_RESOLUTION 1.000 *
SECONDARY_HORIZONTAL_DATUM NAD27 *
XY_ORIGIN 269550.000 3806880.000 *
SECONDARY_XY_ORIGIN 269632.613 3806682.802 *
NATION US *
STATE CA *
NW_QUAD_CORNER_XY 270123.223 3806569.156 *
NE_QUAD_CORNER_XY 275871.425 3806429.228 *
SE_QUAD_CORNER_XY 275704.938 3799496.666 *
SW_QUAD_CORNER_XY 269952.459 3799636.475 *
SECONDARY_NW_QUAD_XY 270117.991 3806373.579 *
SECONDARY_NE_QUAD_XY 275866.324 3806233.648 *
SECONDARY_SE_QUAD_XY 275699.842 3799301.282 *
SECONDARY_SW_QUAD_XY 269947.232 3799441.094 *
RMSE_XY 1.870 *
IMAGE_SOURCE "BLACK AND WHITE FILM" *
SOURCE_IMAGE_ID "NAPP 6921 207" *
SOURCE_IMAGE_DATE 1994 09 03 *
SOURCE_DEM_DATE 1967 01 01 *
AGENCY "WESTERN MAPPING CENTER (WMC)" *
PRODUCER "ANALYTICAL SURVEYS INC." *
PRODUCTION_SYSTEM "ORBIT OR_RECTIFY V.5.2" *
STANDARD_VERSION 1996 12 *
METADATA_DATE 1998 08 26 *
DATA_FILE_SIZE 51123930 *
BYTE_COUNT 6630 * * * * * * * * * * * * * * * * * * * * * * * * * * * * * * * * * * * * * * * *
END_USGS_HEADER *
