BEGIN_USGS_DOQ_HEADER *
QUADRANGLE_NAME "WHITE LEDGE PEAK" 3.45 or 7.5-min. name*
QUADRANT NW quadrant indicator if cell size = 3.75-minutes*
WEST_LONGITUDE -119 30 0.000 signed deg min sec SDDD MM SS.SSS*
EAST_LONGITUDE -119 26 15.000 signed deg min sec SDDD MM SS.SSS*
NORTH_LATITUDE 34 30 0.000 signed deg min sec SDDD MM SS.SSS*
SOUTH_LATITUDE 34 26 15.000 signed deg min sec SDDD MM SS.SSS*
PRODUCTION_DATE 1996 5 29 yyyy mm dd*
RASTER_ORDER LEFT_RIGHT/TOP_BOTTOM video display order*
BAND_ORGANIZATION "SINGLE FILE" single file or BSQ, or BIL or BIP*
BAND_CONTENT BLACK&WHITE black&white or red green blue*
BITS_PER_PIXEL 8 radiometric resolution*
SAMPLES_AND_LINES 6600 7677 number of columns and rows*
HORIZONTAL_DATUM NAD83 primary horizontal datum*
HORIZONTAL_COORDINATE_SYSTEM UTM *
COORDINATE_ZONE 11 coordinate system zone number*
HORIZONTAL_UNITS METERS coordinate system units*
HORIZONTAL_RESOLUTION 1.00 pixel horiz. ground sample distance*
SECONDARY_HORIZONTAL_DATUM NAD27 secondary horizontal datum*
XY_ORIGIN 269905.000 3820737.000 coord. of upper left pixel pri. datum*
SECONDARY_XY_ORIGIN 269987.707 3820539.691 coord upper left pixel sec datum*
NATION US nation code*
STATE CA state fip code*
NW_QUAD_CORNER_XY 270465.573 3820434.692 XY coords. of pri. NW quad corner*
NE_QUAD_CORNER_XY 276205.200 3820294.528 XY coords. of pri. NE quad corner*
SE_QUAD_CORNER_XY 276038.179 3813361.849 XY coords. of pri. SE quad corner*
SW_QUAD_CORNER_XY 270294.261 3813501.896 XY coords. of pri. SW quad corner*
SECONDARY_NW_QUAD_XY 270460.332 3820238.724 XY coords. - sec. NW quad cor.*
SECONDARY_NE_QUAD_XY 276200.090 3820098.557 XY coords. - sec. NE quad cor.*
SECONDARY_SE_QUAD_XY 276033.074 3813166.073 XY coords. - sec. SE quad cor.*
SECONDARY_SW_QUAD_XY 270289.025 3813306.123 XY coords. - sec. SW quad cor.*
RMSE_XY 2.30 doq horiz. accuracy*
IMAGE_SOURCE "BLACK AND WHITE FILM" b&w, cir, natural color, other*
SOURCE_IMAGE_ID "NAPP 6925 151" source image id*
SOURCE_IMAGE_DATE 1994 6 1 source image date as yyyy mm dd*
SOURCE_DEM_DATE 1996 5 29 source dem date yyyy mm dd*
AGENCY "WESTERN MAPPING CENTER (WMC)" oversight agency*
PRODUCER "USDA FS GEOMETRONICS SERVICE CENTER" *
PRODUCTION_SYSTEM "DV2.6.1 6/95OV2.4 5/95" production system*
STANDARD_VERSION 1996 12 version of DOQ standard*
METADATA_DATE 1999 2 4 date created or changed, yyyy mm dd*
DATA_FILE_SIZE 50674800 data set size in bytes*
BYTE_COUNT 6600 header byte count* * * * * * * * * * * * * * * * * * * * * * * * * * * * * * * * * * * * * * * *
END_USGS_HEADER *
