BEGIN_USGS_DOQ_HEADER *
QUADRANGLE_NAME "WHITE LEDGE PEAK" 3.45 or 7.5-min. name*
QUADRANT SW quadrant indicator if cell size = 3.75-minutes*
WEST_LONGITUDE -119 30 0.000 signed deg min sec SDDD MM SS.SSS*
EAST_LONGITUDE -119 26 15.000 signed deg min sec SDDD MM SS.SSS*
NORTH_LATITUDE 34 26 15.000 signed deg min sec SDDD MM SS.SSS*
SOUTH_LATITUDE 34 22 30.000 signed deg min sec SDDD MM SS.SSS*
PRODUCTION_DATE 1996 5 29 yyyy mm dd*
RASTER_ORDER LEFT_RIGHT/TOP_BOTTOM video display order*
BAND_ORGANIZATION "SINGLE FILE" single file or BSQ, or BIL or BIP*
BAND_CONTENT BLACK&WHITE black&white or red green blue*
BITS_PER_PIXEL 8 radiometric resolution*
SAMPLES_AND_LINES 6604 7677 number of columns and rows*
HORIZONTAL_DATUM NAD83 primary horizontal datum*
HORIZONTAL_COORDINATE_SYSTEM UTM *
COORDINATE_ZONE 11 coordinate system zone number*
HORIZONTAL_UNITS METERS coordinate system units*
HORIZONTAL_RESOLUTION 1.00 pixel horiz. ground sample distance*
SECONDARY_HORIZONTAL_DATUM NAD27 secondary horizontal datum*
XY_ORIGIN 269734.000 3813804.000 coord. of upper left pixel pri. datum*
SECONDARY_XY_ORIGIN 269816.669 3813606.729 coord upper left pixel sec datum*
NATION US nation code*
STATE CA state fip code*
NW_QUAD_CORNER_XY 270294.260 3813501.900 XY coords. of pri. NW quad corner*
NE_QUAD_CORNER_XY 276038.180 3813361.850 XY coords. of pri. NE quad corner*
SE_QUAD_CORNER_XY 275871.420 3806429.230 XY coords. of pri. SE quad corner*
SW_QUAD_CORNER_XY 270123.220 3806569.160 XY coords. of pri. SW quad corner*
SECONDARY_NW_QUAD_XY 270289.020 3813306.120 XY coords. - sec. NW quad cor.*
SECONDARY_NE_QUAD_XY 276033.070 3813166.070 XY coords. - sec. NE quad cor.*
SECONDARY_SE_QUAD_XY 275866.320 3806233.650 XY coords. - sec. SE quad cor.*
SECONDARY_SW_QUAD_XY 270117.990 3806373.580 XY coords. - sec. SW quad cor.*
RMSE_XY 4.20 doq horiz. accuracy*
IMAGE_SOURCE "BLACK AND WHITE FILM" b&w, cir, natural color, other*
SOURCE_IMAGE_ID "NAPP 6921 209" source image id*
SOURCE_IMAGE_DATE 1994 9 3 source image date as yyyy mm dd*
SOURCE_DEM_DATE 1996 5 29 source dem date yyyy mm dd*
AGENCY "WESTERN MAPPING CENTER (WMC)" oversight agency*
PRODUCER "USDA FS GEOMETRONICS SERVICE CENTER" *
PRODUCTION_SYSTEM "DV2.6.1 6/95OV2.4 5/95" production system*
STANDARD_VERSION 1996 12 version of DOQ standard*
METADATA_DATE 1999 2 4 date created or changed, yyyy mm dd*
DATA_FILE_SIZE 50705512 data set size in bytes*
BYTE_COUNT 6604 header byte count* * * * * * * * * * * * * * * * * * * * * * * * * * * * * * * * * * * * * * * *
END_USGS_HEADER *
