BEGIN_USGS_DOQ_HEADER *
QUADRANGLE_NAME "DOS PUEBLOS CANYON" 3.45 or 7.5-min. name*
QUADRANT SW quadrant indicator if cell size = 3.75-minutes*
WEST_LONGITUDE -120 0 0.000 signed deg min sec SDDD MM SS.SSS*
EAST_LONGITUDE -119 56 15.000 signed deg min sec SDDD MM SS.SSS*
NORTH_LATITUDE 34 26 15.000 signed deg min sec SDDD MM SS.SSS*
SOUTH_LATITUDE 34 22 30.000 signed deg min sec SDDD MM SS.SSS*
PRODUCTION_DATE 1996 4 26 yyyy mm dd*
RASTER_ORDER LEFT_RIGHT/TOP_BOTTOM video display order*
BAND_ORGANIZATION "SINGLE FILE" single file or BSQ, or BIL or BIP*
BAND_CONTENT BLACK&WHITE black&white or red green blue*
BITS_PER_PIXEL 8 radiometric resolution*
SAMPLES_AND_LINES 6640 7707 number of columns and rows*
HORIZONTAL_DATUM NAD83 primary horizontal datum*
HORIZONTAL_COORDINATE_SYSTEM UTM *
COORDINATE_ZONE 11 coordinate system zone number*
HORIZONTAL_UNITS METERS coordinate system units*
HORIZONTAL_RESOLUTION 1.00 pixel horiz. ground sample distance*
SECONDARY_HORIZONTAL_DATUM NAD27 secondary horizontal datum*
XY_ORIGIN 223743.000 3815053.000 coord. of upper left pixel pri. datum*
SECONDARY_XY_ORIGIN 223826.000 3814856.000 coord upper left pixel sec datum*
NATION US nation code*
STATE CA state fip code*
NW_QUAD_CORNER_XY 224339.138 3814750.206 XY coords. of pri. NW quad corner*
NE_QUAD_CORNER_XY 230083.919 3814581.723 XY coords. of pri. NE quad corner*
SE_QUAD_CORNER_XY 229882.874 3807648.070 XY coords. of pri. SE quad corner*
SW_QUAD_CORNER_XY 224133.803 3807816.410 XY coords. of pri. SW quad corner*
SECONDARY_NW_QUAD_XY 224332.853 3814554.461 XY coords. - sec. NW quad cor.*
SECONDARY_NE_QUAD_XY 230077.765 3814385.975 XY coords. - sec. NE quad cor.*
SECONDARY_SE_QUAD_XY 229876.725 3807452.517 XY coords. - sec. SE quad cor.*
SECONDARY_SW_QUAD_XY 224127.524 3807620.861 XY coords. - sec. SW quad cor.*
RMSE_XY 1.60 doq horiz. accuracy*
IMAGE_SOURCE "BLACK AND WHITE FILM" b&w, cir, natural color, other*
SOURCE_IMAGE_ID "NAPP 6925 106" source image id*
SOURCE_IMAGE_DATE 1994 6 1 source image date as yyyy mm dd*
SOURCE_DEM_DATE 1996 4 26 source dem date yyyy mm dd*
AGENCY "WESTERN MAPPING CENTER (WMC)" oversight agency*
PRODUCER "USDA FS GEOMETRONICS SERVICE CENTER" *
PRODUCTION_SYSTEM "DV2.6.1 6/95OV2.4 5/95" production system*
STANDARD_VERSION 1996 12 version of DOQ standard*
METADATA_DATE 1999 2 4 date created or changed, yyyy mm dd*
DATA_FILE_SIZE 51181120 data set size in bytes*
BYTE_COUNT 6640 header byte count* * * * * * * * * * * * * * * * * * * * * * * * * * * * * * * * * * * * * * * *
END_USGS_HEADER *
