BEGIN_USGS_DOQ_HEADER *
QUADRANGLE_NAME "HILDRETH PEAK" 3.45 or 7.5-min. name*
QUADRANT NW quadrant indicator if cell size = 3.75-minutes*
WEST_LONGITUDE -119 37 30.000 signed deg min sec SDDD MM SS.SSS*
EAST_LONGITUDE -119 33 45.000 signed deg min sec SDDD MM SS.SSS*
NORTH_LATITUDE 34 37 30.000 signed deg min sec SDDD MM SS.SSS*
SOUTH_LATITUDE 34 33 45.000 signed deg min sec SDDD MM SS.SSS*
PRODUCTION_DATE 1996 5 14 yyyy mm dd*
RASTER_ORDER LEFT_RIGHT/TOP_BOTTOM video display order*
BAND_ORGANIZATION "SINGLE FILE" single file or BSQ, or BIL or BIP*
BAND_CONTENT BLACK&WHITE black&white or red green blue*
BITS_PER_PIXEL 8 radiometric resolution*
SAMPLES_AND_LINES 6601 7686 number of columns and rows*
HORIZONTAL_DATUM NAD83 primary horizontal datum*
HORIZONTAL_COORDINATE_SYSTEM UTM *
COORDINATE_ZONE 11 coordinate system zone number*
HORIZONTAL_UNITS METERS coordinate system units*
HORIZONTAL_RESOLUTION 1.00 pixel horiz. ground sample distance*
SECONDARY_HORIZONTAL_DATUM NAD27 secondary horizontal datum*
XY_ORIGIN 258777.000 3834898.000 coord. of upper left pixel pri. datum*
SECONDARY_XY_ORIGIN 258859.940 3834700.550 coord upper left pixel sec datum*
NATION US nation code*
STATE CA state fip code*
NW_QUAD_CORNER_XY 259346.760 3834591.910 XY coords. of pri. NW quad corner*
NE_QUAD_CORNER_XY 265077.980 3834444.380 XY coords. of pri. NE quad corner*
SE_QUAD_CORNER_XY 264901.810 3827511.350 XY coords. of pri. SE quad corner*
SW_QUAD_CORNER_XY 259166.290 3827658.750 XY coords. of pri. SW quad corner*
SECONDARY_NW_QUAD_XY 259341.240 3834395.560 XY coords. - sec. NW quad cor.*
SECONDARY_NE_QUAD_XY 265072.600 3834248.030 XY coords. - sec. NE quad cor.*
SECONDARY_SE_QUAD_XY 264896.440 3827315.200 XY coords. - sec. SE quad cor.*
SECONDARY_SW_QUAD_XY 259160.780 3827462.600 XY coords. - sec. SW quad cor.*
RMSE_XY 3.90 doq horiz. accuracy*
IMAGE_SOURCE "BLACK AND WHITE FILM" b&w, cir, natural color, other*
SOURCE_IMAGE_ID "NAPP 6924 165" source image id*
SOURCE_IMAGE_DATE 1994 5 29 source image date as yyyy mm dd*
IMAGE_SOURCE "BLACK AND WHITE FILM" b&w, cir, natural color, other*
SOURCE_IMAGE_ID "NAPP 6924 225" source image id*
SOURCE_IMAGE_DATE 1994 5 29 source image date as yyyy mm dd*
SOURCE_DEM_DATE 1996 5 14 source dem date yyyy mm dd*
AGENCY "WESTERN MAPPING CENTER (WMC)" oversight agency*
PRODUCER "USDA FS GEOMETRONICS SERVICE CENTER" *
PRODUCTION_SYSTEM "DV2.6.1 6/95OV2.4 5/95" production system*
STANDARD_VERSION 1996 12 version of DOQ standard*
METADATA_DATE 1999 2 3 date created or changed, yyyy mm dd*
DATA_FILE_SIZE 50741887 data set size in bytes*
BYTE_COUNT 6601 header byte count* * * * * * * * * * * * * * * * * * * * * * * * * * * * * * * * * * * * *
END_USGS_HEADER *
