BEGIN_USGS_DOQ_HEADER *
QUADRANGLE_NAME "LITTLE PINE MOUNTAIN" 3.45 or 7.5-min. name*
QUADRANT SW quadrant indicator if cell size = 3.75-minutes*
WEST_LONGITUDE -119 45 0.000 signed deg min sec SDDD MM SS.SSS*
EAST_LONGITUDE -119 41 15.000 signed deg min sec SDDD MM SS.SSS*
NORTH_LATITUDE 34 33 45.000 signed deg min sec SDDD MM SS.SSS*
SOUTH_LATITUDE 34 30 0.000 signed deg min sec SDDD MM SS.SSS*
PRODUCTION_DATE 1996 5 7 yyyy mm dd*
RASTER_ORDER LEFT_RIGHT/TOP_BOTTOM video display order*
BAND_ORGANIZATION "SINGLE FILE" single file or BSQ, or BIL or BIP*
BAND_CONTENT BLACK&WHITE black&white or red green blue*
BITS_PER_PIXEL 8 radiometric resolution*
SAMPLES_AND_LINES 6616 7692 number of columns and rows*
HORIZONTAL_DATUM NAD83 primary horizontal datum*
HORIZONTAL_COORDINATE_SYSTEM UTM *
COORDINATE_ZONE 11 coordinate system zone number*
HORIZONTAL_UNITS METERS coordinate system units*
HORIZONTAL_RESOLUTION 1.00 pixel horiz. ground sample distance*
SECONDARY_HORIZONTAL_DATUM NAD27 secondary horizontal datum*
XY_ORIGIN 247116.000 3828267.000 coord. of upper left pixel pri. datum*
SECONDARY_XY_ORIGIN 247199.458 3828069.107 coord upper left pixel sec datum*
NATION US nation code*
STATE CA state fip code*
NW_QUAD_CORNER_XY 247694.837 3827964.263 XY coords. of pri. NW quad corner*
NE_QUAD_CORNER_XY 253430.573 3827809.744 XY coords. of pri. NE quad corner*
SE_QUAD_CORNER_XY 253246.090 3820876.521 XY coords. of pri. SE quad corner*
SW_QUAD_CORNER_XY 247506.054 3821030.910 XY coords. of pri. SW quad corner*
SECONDARY_NW_QUAD_XY 247689.066 3827768.115 XY coords. - sec. NW quad cor.*
SECONDARY_NE_QUAD_XY 253424.933 3827613.593 XY coords. - sec. NE quad cor.*
SECONDARY_SE_QUAD_XY 253240.456 3820680.563 XY coords. - sec. SE quad cor.*
SECONDARY_SW_QUAD_XY 247500.289 3820834.956 XY coords. - sec. SW quad cor.*
RMSE_XY 5.20 doq horiz. accuracy*
IMAGE_SOURCE "BLACK AND WHITE FILM" b&w, cir, natural color, other*
SOURCE_IMAGE_ID "NAPP 6927 173" source image id*
SOURCE_IMAGE_DATE 1994 9 4 source image date as yyyy mm dd*
SOURCE_DEM_DATE 1996 5 7 source dem date yyyy mm dd*
AGENCY "WESTERN MAPPING CENTER (WMC)" oversight agency*
PRODUCER "USDA FS GEOMETRONICS SERVICE CENTER" *
PRODUCTION_SYSTEM "DV2.6.1 6/95OV2.4 5/95" production system*
STANDARD_VERSION 1996 12 version of DOQ standard*
METADATA_DATE 1999 2 4 date created or changed, yyyy mm dd*
DATA_FILE_SIZE 50896888 data set size in bytes*
BYTE_COUNT 6616 header byte count* * * * * * * * * * * * * * * * * * * * * * * * * * * * * * * * * * * * * * * *
END_USGS_HEADER *
