BEGIN_USGS_DOQ_HEADER *
QUADRANGLE_NAME "SAN MARCOS PASS" 3.45 or 7.5-min. name*
QUADRANT NW quadrant indicator if cell size = 3.75-minutes*
WEST_LONGITUDE -119 52 30.000 signed deg min sec SDDD MM SS.SSS*
EAST_LONGITUDE -119 48 45.000 signed deg min sec SDDD MM SS.SSS*
NORTH_LATITUDE 34 37 30.000 signed deg min sec SDDD MM SS.SSS*
SOUTH_LATITUDE 34 33 45.000 signed deg min sec SDDD MM SS.SSS*
PRODUCTION_DATE 1996 5 6 yyyy mm dd*
RASTER_ORDER LEFT_RIGHT/TOP_BOTTOM video display order*
BAND_ORGANIZATION "SINGLE FILE" single file or BSQ, or BIL or BIP*
BAND_CONTENT BLACK&WHITE black&white or red green blue*
BITS_PER_PIXEL 8 radiometric resolution*
SAMPLES_AND_LINES 6620 7700 number of columns and rows*
HORIZONTAL_DATUM NAD83 primary horizontal datum*
HORIZONTAL_COORDINATE_SYSTEM UTM *
COORDINATE_ZONE 11 coordinate system zone number*
HORIZONTAL_UNITS METERS coordinate system units*
HORIZONTAL_RESOLUTION 1.00 pixel horiz. ground sample distance*
SECONDARY_HORIZONTAL_DATUM NAD27 secondary horizontal datum*
XY_ORIGIN 235833.000 3835520.000 coord. of upper left pixel pri. datum*
SECONDARY_XY_ORIGIN 235916.256 3835322.332 coord upper left pixel sec datum*
NATION US nation code*
STATE CA state fip code*
NW_QUAD_CORNER_XY 236420.740 3835217.657 XY coords. of pri. NW quad corner*
NE_QUAD_CORNER_XY 242152.385 3835055.882 XY coords. of pri. NE quad corner*
SE_QUAD_CORNER_XY 241958.994 3828122.343 XY coords. of pri. SE quad corner*
SW_QUAD_CORNER_XY 236223.040 3828283.984 XY coords. of pri. SW quad corner*
SECONDARY_NW_QUAD_XY 236414.701 3835021.323 XY coords. - sec. NW quad cor.*
SECONDARY_NE_QUAD_XY 242146.478 3834859.544 XY coords. - sec. NE quad cor.*
SECONDARY_SE_QUAD_XY 241953.091 3827926.198 XY coords. - sec. SE quad cor.*
SECONDARY_SW_QUAD_XY 236217.007 3828087.843 XY coords. - sec. SW quad cor.*
RMSE_XY 2.50 doq horiz. accuracy*
IMAGE_SOURCE "BLACK AND WHITE FILM" b&w, cir, natural color, other*
SOURCE_IMAGE_ID "NAPP 6927 189" source image id*
SOURCE_IMAGE_DATE 1994 9 4 source image date as yyyy mm dd*
SOURCE_DEM_DATE 1996 5 6 source dem date yyyy mm dd*
AGENCY "WESTERN MAPPING CENTER (WMC)" oversight agency*
PRODUCER "USDA FS GEOMETRONICS SERVICE CENTER" *
PRODUCTION_SYSTEM "DV2.6.1 6/95OV2.4 5/95" production system*
STANDARD_VERSION 1996 12 version of DOQ standard*
METADATA_DATE 1999 2 4 date created or changed, yyyy mm dd*
DATA_FILE_SIZE 50980620 data set size in bytes*
BYTE_COUNT 6620 header byte count* * * * * * * * * * * * * * * * * * * * * * * * * * * * * * * * * * * * * * * *
END_USGS_HEADER *
