BEGIN_USGS_DOQ_HEADER *
QUADRANGLE_NAME "LOCKWOOD VALLEY" 3.45 or 7.5-min. name*
QUADRANT NE quadrant indicator if cell size = 3.75-minutes*
WEST_LONGITUDE -119 3 45.000 signed deg min sec SDDD MM SS.SSS*
EAST_LONGITUDE -119 0 0.000 signed deg min sec SDDD MM SS.SSS*
NORTH_LATITUDE 34 45 0.000 signed deg min sec SDDD MM SS.SSS*
SOUTH_LATITUDE 34 41 15.000 signed deg min sec SDDD MM SS.SSS*
PRODUCTION_DATE 1996 6 24 yyyy mm dd*
RASTER_ORDER LEFT_RIGHT/TOP_BOTTOM video display order*
BAND_ORGANIZATION "SINGLE FILE" single file or BSQ, or BIL or BIP*
BAND_CONTENT BLACK&WHITE black&white or red green blue*
BITS_PER_PIXEL 8 radiometric resolution*
SAMPLES_AND_LINES 6552 7651 number of columns and rows*
HORIZONTAL_DATUM NAD83 primary horizontal datum*
HORIZONTAL_COORDINATE_SYSTEM UTM *
COORDINATE_ZONE 11 coordinate system zone number*
HORIZONTAL_UNITS METERS coordinate system units*
HORIZONTAL_RESOLUTION 1.00 pixel horiz. ground sample distance*
SECONDARY_HORIZONTAL_DATUM NAD27 secondary horizontal datum*
XY_ORIGIN 310679.000 3847558.000 coord. of upper left pixel pri. datum*
SECONDARY_XY_ORIGIN 310760.000 3847362.000 coord upper left pixel sec datum*
NATION US nation code*
STATE CA state fip code*
NW_QUAD_CORNER_XY 311208.435 3847256.934 XY coords. of pri. NW quad corner*
NE_QUAD_CORNER_XY 316930.225 3847141.262 XY coords. of pri. NE quad corner*
SE_QUAD_CORNER_XY 316792.349 3840209.075 XY coords. of pri. SE quad corner*
SW_QUAD_CORNER_XY 311066.245 3840324.652 XY coords. of pri. SW quad corner*
SECONDARY_NW_QUAD_XY 311204.096 3847060.174 XY coords. - sec. NW quad cor.*
SECONDARY_NE_QUAD_XY 316926.018 3846944.499 XY coords. - sec. NE quad cor.*
SECONDARY_SE_QUAD_XY 316788.146 3840012.504 XY coords. - sec. SE quad cor.*
SECONDARY_SW_QUAD_XY 311061.911 3840128.084 XY coords. - sec. SW quad cor.*
RMSE_XY 1.90 doq horiz. accuracy*
IMAGE_SOURCE "BLACK AND WHITE FILM" b&w, cir, natural color, other*
SOURCE_IMAGE_ID "NAPP 6919 15" source image id*
SOURCE_IMAGE_DATE 1994 5 11 source image date as yyyy mm dd*
SOURCE_DEM_DATE 1996 6 24 source dem date yyyy mm dd*
AGENCY "WESTERN MAPPING CENTER (WMC)" oversight agency*
PRODUCER "USFS" producer/contractor*
PRODUCTION_SYSTEM "DV2.6.1 6/95OV2.4 5/95" production system*
STANDARD_VERSION 1996 12 version of DOQ standard*
METADATA_DATE 1997 6 11 date created or changed, yyyy mm dd*
DATA_FILE_SIZE 50135904 data set size in bytes*
BYTE_COUNT 6552 header byte count* * * * * * * * * * * * * * * * * * * * * * * * * * * * * * * * * * * * * * *
END_USGS_HEADER *
