BEGIN_USGS_DOQ_HEADER *
QUADRANGLE_NAME "SAN GUILLERMO MOUNTAIN" 3.45 or 7.5-min. name*
QUADRANT NE quadrant indicator if cell size = 3.75-minutes*
WEST_LONGITUDE -119 11 15.000 signed deg min sec SDDD MM SS.SSS*
EAST_LONGITUDE -119 7 30.000 signed deg min sec SDDD MM SS.SSS*
NORTH_LATITUDE 34 45 0.000 signed deg min sec SDDD MM SS.SSS*
SOUTH_LATITUDE 34 41 15.000 signed deg min sec SDDD MM SS.SSS*
PRODUCTION_DATE 1996 6 19 yyyy mm dd*
RASTER_ORDER LEFT_RIGHT/TOP_BOTTOM video display order*
BAND_ORGANIZATION "SINGLE FILE" single file or BSQ, or BIL or BIP*
BAND_CONTENT BLACK&WHITE black&white or red green blue*
BITS_PER_PIXEL 8 radiometric resolution*
SAMPLES_AND_LINES 6560 7658 number of columns and rows*
HORIZONTAL_DATUM NAD83 primary horizontal datum*
HORIZONTAL_COORDINATE_SYSTEM UTM *
COORDINATE_ZONE 11 coordinate system zone number*
HORIZONTAL_UNITS METERS coordinate system units*
HORIZONTAL_RESOLUTION 1.00 pixel horiz. ground sample distance*
SECONDARY_HORIZONTAL_DATUM NAD27 secondary horizontal datum*
XY_ORIGIN 299226.000 3847800.000 coord. of upper left pixel pri. datum*
SECONDARY_XY_ORIGIN 299307.000 3847604.000 coord upper left pixel sec datum*
NATION US nation code*
STATE CA state fip code*
NW_QUAD_CORNER_XY 299764.615 3847498.970 XY coords. of pri. NW quad corner*
NE_QUAD_CORNER_XY 305486.566 3847376.170 XY coords. of pri. NE quad corner*
SE_QUAD_CORNER_XY 305340.062 3840443.791 XY coords. of pri. SE quad corner*
SW_QUAD_CORNER_XY 299613.796 3840566.491 XY coords. of pri. SW quad corner*
SECONDARY_NW_QUAD_XY 299760.014 3847302.216 XY coords. - sec. NW quad cor.*
SECONDARY_NE_QUAD_XY 305482.096 3847179.413 XY coords. - sec. NE quad cor.*
SECONDARY_SE_QUAD_XY 305335.596 3840247.225 XY coords. - sec. SE quad cor.*
SECONDARY_SW_QUAD_XY 299609.198 3840369.928 XY coords. - sec. SW quad cor.*
RMSE_XY 3.80 doq horiz. accuracy*
IMAGE_SOURCE "BLACK AND WHITE FILM" b&w, cir, natural color, other*
SOURCE_IMAGE_ID "NAPP 6919 44" source image id*
SOURCE_IMAGE_DATE 1994 5 11 source image date as yyyy mm dd*
SOURCE_DEM_DATE 1996 6 19 source dem date yyyy mm dd*
AGENCY "WESTERN MAPPING CENTER (WMC)" oversight agency*
PRODUCER "USFS" producer/contractor*
PRODUCTION_SYSTEM "DV2.6.1 6/95OV2.4 5/95" production system*
STANDARD_VERSION 1996 12 version of DOQ standard*
METADATA_DATE 1997 6 11 date created or changed, yyyy mm dd*
DATA_FILE_SIZE 50243040 data set size in bytes*
BYTE_COUNT 6560 header byte count* * * * * * * * * * * * * * * * * * * * * * * * * * * * * * * * * * * * * * *
END_USGS_HEADER *
