BEGIN_USGS_DOQ_HEADER *
QUADRANGLE_NAME "REYES PEAK" 3.45 or 7.5-min. name*
QUADRANT NE quadrant indicator if cell size = 3.75-minutes*
WEST_LONGITUDE -119 18 45.000 signed deg min sec SDDD MM SS.SSS*
EAST_LONGITUDE -119 15 0.000 signed deg min sec SDDD MM SS.SSS*
NORTH_LATITUDE 34 45 0.000 signed deg min sec SDDD MM SS.SSS*
SOUTH_LATITUDE 34 41 15.000 signed deg min sec SDDD MM SS.SSS*
PRODUCTION_DATE 1996 6 7 yyyy mm dd*
RASTER_ORDER LEFT_RIGHT/TOP_BOTTOM video display order*
BAND_ORGANIZATION "SINGLE FILE" single file or BSQ, or BIL or BIP*
BAND_CONTENT BLACK&WHITE black&white or red green blue*
BITS_PER_PIXEL 8 radiometric resolution*
SAMPLES_AND_LINES 6572 7665 number of columns and rows*
HORIZONTAL_DATUM NAD83 primary horizontal datum*
HORIZONTAL_COORDINATE_SYSTEM UTM *
COORDINATE_ZONE 11 coordinate system zone number*
HORIZONTAL_UNITS METERS coordinate system units*
HORIZONTAL_RESOLUTION 1.00 pixel horiz. ground sample distance*
SECONDARY_HORIZONTAL_DATUM NAD27 secondary horizontal datum*
XY_ORIGIN 287773.000 3848056.000 coord. of upper left pixel pri. datum*
SECONDARY_XY_ORIGIN 287855.058 3847859.339 coord upper left pixel sec datum*
NATION US nation code*
STATE CA state fip code*
NW_QUAD_CORNER_XY 288320.460 3847755.266 XY coords. of pri. NW quad corner*
NE_QUAD_CORNER_XY 294042.581 3847625.336 XY coords. of pri. NE quad corner*
SE_QUAD_CORNER_XY 293887.445 3840692.752 XY coords. of pri. SE quad corner*
SW_QUAD_CORNER_XY 288161.008 3840822.576 XY coords. of pri. SW quad corner*
SECONDARY_NW_QUAD_XY 288315.594 3847558.518 XY coords. - sec. NW quad cor.*
SECONDARY_NE_QUAD_XY 294037.847 3847428.584 XY coords. - sec. NE quad cor.*
SECONDARY_SE_QUAD_XY 293882.716 3840496.192 XY coords. - sec. SE quad cor.*
SECONDARY_SW_QUAD_XY 288156.147 3840626.019 XY coords. - sec. SW quad cor.*
RMSE_XY 7.00 doq horiz. accuracy*
IMAGE_SOURCE "BLACK AND WHITE FILM" b&w, cir, natural color, other*
SOURCE_IMAGE_ID "NAPP 6919 66" source image id*
SOURCE_IMAGE_DATE 1994 5 11 source image date as yyyy mm dd*
SOURCE_DEM_DATE 1996 6 7 source dem date yyyy mm dd*
AGENCY "WESTERN MAPPING CENTER (WMC)" oversight agency*
PRODUCER "USFS" producer/contractor*
PRODUCTION_SYSTEM "DV2.6.1 6/95OV2.4 5/95" production system*
STANDARD_VERSION 1996 12 version of DOQ standard*
METADATA_DATE 1997 6 11 date created or changed, yyyy mm dd*
DATA_FILE_SIZE 50380952 data set size in bytes*
BYTE_COUNT 6572 header byte count* * * * * * * * * * * * * * * * * * * * * * * * * * * * * * * * * * * * * * * *
END_USGS_HEADER *
