BEGIN_USGS_DOQ_HEADER *
QUADRANGLE_NAME "BIG PINE MOUNTAIN" 3.45 or 7.5-min. name*
QUADRANT SW quadrant indicator if cell size = 3.75-minutes*
WEST_LONGITUDE -119 45 0.000 signed deg min sec SDDD MM SS.SSS*
EAST_LONGITUDE -119 41 15.000 signed deg min sec SDDD MM SS.SSS*
NORTH_LATITUDE 34 41 15.000 signed deg min sec SDDD MM SS.SSS*
SOUTH_LATITUDE 34 37 30.000 signed deg min sec SDDD MM SS.SSS*
PRODUCTION_DATE 1996 5 7 yyyy mm dd*
RASTER_ORDER LEFT_RIGHT/TOP_BOTTOM video display order*
BAND_ORGANIZATION "SINGLE FILE" single file or BSQ, or BIL or BIP*
BAND_CONTENT BLACK&WHITE black&white or red green blue*
BITS_PER_PIXEL 8 radiometric resolution*
SAMPLES_AND_LINES 6608 7692 number of columns and rows*
HORIZONTAL_DATUM NAD83 primary horizontal datum*
HORIZONTAL_COORDINATE_SYSTEM UTM *
COORDINATE_ZONE 11 coordinate system zone number*
HORIZONTAL_UNITS METERS coordinate system units*
HORIZONTAL_RESOLUTION 1.00 pixel horiz. ground sample distance*
SECONDARY_HORIZONTAL_DATUM NAD27 secondary horizontal datum*
XY_ORIGIN 247494.000 3842133.000 coord. of upper left pixel pri. datum*
SECONDARY_XY_ORIGIN 247577.103 3841935.393 coord upper left pixel sec datum*
NATION US nation code*
STATE CA state fip code*
NW_QUAD_CORNER_XY 248073.305 3841831.133 XY coords. of pri. NW quad corner*
NE_QUAD_CORNER_XY 253800.419 3841676.358 XY coords. of pri. NE quad corner*
SE_QUAD_CORNER_XY 253615.349 3834743.024 XY coords. of pri. SE quad corner*
SW_QUAD_CORNER_XY 247883.921 3834897.671 XY coords. of pri. SW quad corner*
SECONDARY_NW_QUAD_XY 248067.523 3841634.600 XY coords. - sec. NW quad cor.*
SECONDARY_NE_QUAD_XY 253794.769 3841479.821 XY coords. - sec. NE quad cor.*
SECONDARY_SE_QUAD_XY 253609.704 3834546.679 XY coords. - sec. SE quad cor.*
SECONDARY_SW_QUAD_XY 247878.144 3834701.330 XY coords. - sec. SW quad cor.*
RMSE_XY 6.50 doq horiz. accuracy*
IMAGE_SOURCE "BLACK AND WHITE FILM" b&w, cir, natural color, other*
SOURCE_IMAGE_ID "NAPP 6924 85" source image id*
SOURCE_IMAGE_DATE 1994 5 29 source image date as yyyy mm dd*
SOURCE_DEM_DATE 1996 5 7 source dem date yyyy mm dd*
AGENCY "WESTERN MAPPING CENTER (WMC)" oversight agency*
PRODUCER "USDA FS GEOMETRONICS SERVICE CENTER" *
PRODUCTION_SYSTEM "DV2.6.1 6/95OV2.4 5/95" production system*
STANDARD_VERSION 1996 12 version of DOQ standard*
METADATA_DATE 1999 2 4 date created or changed, yyyy mm dd*
DATA_FILE_SIZE 50835344 data set size in bytes*
BYTE_COUNT 6608 header byte count* * * * * * * * * * * * * * * * * * * * * * * * * * * * * * * * * * * * * * * *
END_USGS_HEADER *
