BEGIN_USGS_DOQ_HEADER *
QUADRANGLE_NAME "FIGUEROA MOUNTAIN" 3.45 or 7.5-min. name*
QUADRANT SE quadrant indicator if cell size = 3.75-minutes*
WEST_LONGITUDE -119 56 15.000 signed deg min sec SDDD MM SS.SSS*
EAST_LONGITUDE -119 52 30.000 signed deg min sec SDDD MM SS.SSS*
NORTH_LATITUDE 34 41 15.000 signed deg min sec SDDD MM SS.SSS*
SOUTH_LATITUDE 34 37 30.000 signed deg min sec SDDD MM SS.SSS*
PRODUCTION_DATE 1996 4 26 yyyy mm dd*
RASTER_ORDER LEFT_RIGHT/TOP_BOTTOM video display order*
BAND_ORGANIZATION "SINGLE FILE" single file or BSQ, or BIL or BIP*
BAND_CONTENT BLACK&WHITE black&white or red green blue*
BITS_PER_PIXEL 8 radiometric resolution*
SAMPLES_AND_LINES 6621 7704 number of columns and rows*
HORIZONTAL_DATUM NAD83 primary horizontal datum*
HORIZONTAL_COORDINATE_SYSTEM UTM *
COORDINATE_ZONE 11 coordinate system zone number*
HORIZONTAL_UNITS METERS coordinate system units*
HORIZONTAL_RESOLUTION 1.00 pixel horiz. ground sample distance*
SECONDARY_HORIZONTAL_DATUM NAD27 secondary horizontal datum*
XY_ORIGIN 230299.000 3842623.000 coord. of upper left pixel pri. datum*
SECONDARY_XY_ORIGIN 230382.180 3842425.400 coord upper left pixel sec datum*
NATION US nation code*
STATE CA state fip code*
NW_QUAD_CORNER_XY 230891.400 3842316.830 XY coords. of pri. NW quad corner*
NE_QUAD_CORNER_XY 236618.840 3842151.350 XY coords. of pri. NE quad corner*
SE_QUAD_CORNER_XY 236420.820 3835217.620 XY coords. of pri. SE quad corner*
SW_QUAD_CORNER_XY 230689.070 3835382.960 XY coords. of pri. SW quad corner*
SECONDARY_NW_QUAD_XY 230885.220 3842120.300 XY coords. - sec. NW quad cor.*
SECONDARY_NE_QUAD_XY 236612.790 3841954.820 XY coords. - sec. NE quad cor.*
SECONDARY_SE_QUAD_XY 236414.790 3835021.290 XY coords. - sec. SE quad cor.*
SECONDARY_SW_QUAD_XY 230682.900 3835186.630 XY coords. - sec. SW quad cor.*
RMSE_XY 4.30 doq horiz. accuracy*
IMAGE_SOURCE "BLACK AND WHITE FILM" b&w, cir, natural color, other*
SOURCE_IMAGE_ID "NAPP 6924 79" source image id*
SOURCE_IMAGE_DATE 1994 5 29 source image date as yyyy mm dd*
SOURCE_DEM_DATE 1996 4 26 source dem date yyyy mm dd*
AGENCY "WESTERN MAPPING CENTER (WMC)" oversight agency*
PRODUCER "USDA FS GEOMETRONICS SERVICE CENTER" *
PRODUCTION_SYSTEM "DV2.6.1 6/95OV2.4 5/95" production system*
STANDARD_VERSION 1996 12 version of DOQ standard*
METADATA_DATE 1999 2 4 date created or changed, yyyy mm dd*
DATA_FILE_SIZE 51014805 data set size in bytes*
BYTE_COUNT 6621 header byte count* * * * * * * * * * * * * * * * * * * * * * * * * * * * * * * * * * * * * * * *
END_USGS_HEADER *
