BEGIN_USGS_DOQ_HEADER *
QUADRANGLE_NAME "SAWMILL MOUNTAIN" 3.45 or 7.5-min. name*
QUADRANT NW quadrant indicator if cell size = 3.75-minutes*
WEST_LONGITUDE -119 15 0.000 signed deg min sec SDDD MM SS.SSS*
EAST_LONGITUDE -119 11 15.000 signed deg min sec SDDD MM SS.SSS*
NORTH_LATITUDE 34 52 30.000 signed deg min sec SDDD MM SS.SSS*
SOUTH_LATITUDE 34 48 45.000 signed deg min sec SDDD MM SS.SSS*
PRODUCTION_DATE 1996 6 19 yyyy mm dd*
RASTER_ORDER LEFT_RIGHT/TOP_BOTTOM video display order*
BAND_ORGANIZATION "SINGLE FILE" single file or BSQ, or BIL or BIP*
BAND_CONTENT BLACK&WHITE black&white or red green blue*
BITS_PER_PIXEL 8 radiometric resolution*
SAMPLES_AND_LINES 6556 7663 number of columns and rows*
HORIZONTAL_DATUM NAD83 primary horizontal datum*
HORIZONTAL_COORDINATE_SYSTEM UTM *
COORDINATE_ZONE 11 coordinate system zone number*
HORIZONTAL_UNITS METERS coordinate system units*
HORIZONTAL_RESOLUTION 1.00 pixel horiz. ground sample distance*
SECONDARY_HORIZONTAL_DATUM NAD27 secondary horizontal datum*
XY_ORIGIN 293810.000 3861792.000 coord. of upper left pixel pri. datum*
SECONDARY_XY_ORIGIN 293891.766 3861595.623 coord upper left pixel sec datum*
NATION US nation code*
STATE CA state fip code*
NW_QUAD_CORNER_XY 294353.588 3861490.684 XY coords. of pri. NW quad corner*
NE_QUAD_CORNER_XY 300066.970 3861364.113 XY coords. of pri. NE quad corner*
SE_QUAD_CORNER_XY 299915.674 3854431.511 XY coords. of pri. SE quad corner*
SW_QUAD_CORNER_XY 294197.962 3854557.980 XY coords. of pri. SW quad corner*
SECONDARY_NW_QUAD_XY 294348.846 3861293.551 XY coords. - sec. NW quad cor.*
SECONDARY_NE_QUAD_XY 300062.360 3861166.977 XY coords. - sec. NE quad cor.*
SECONDARY_SE_QUAD_XY 299911.068 3854234.566 XY coords. - sec. SE quad cor.*
SECONDARY_SW_QUAD_XY 294193.224 3854361.037 XY coords. - sec. SW quad cor.*
RMSE_XY 3.60 doq horiz. accuracy*
IMAGE_SOURCE "BLACK AND WHITE FILM" b&w, cir, natural color, other*
SOURCE_IMAGE_ID "NAPP 6924 212" source image id*
SOURCE_IMAGE_DATE 1994 5 29 source image date as yyyy mm dd*
SOURCE_DEM_DATE 1996 6 19 source dem date yyyy mm dd*
AGENCY "WESTERN MAPPING CENTER (WMC)" oversight agency*
PRODUCER "USFS" producer/contractor*
PRODUCTION_SYSTEM "DV2.6.1 6/95OV2.4 5/95" production system*
STANDARD_VERSION 1996 12 version of DOQ standard*
METADATA_DATE 1997 6 11 date created or changed, yyyy mm dd*
DATA_FILE_SIZE 50245184 data set size in bytes*
BYTE_COUNT 6556 header byte count* * * * * * * * * * * * * * * * * * * * * * * * * * * * * * * * * * * * * * *
END_USGS_HEADER *
