BEGIN_USGS_DOQ_HEADER *
QUADRANGLE_NAME "APACHE CANYON" 3.45 or 7.5-min. name*
QUADRANT NW quadrant indicator if cell size = 3.75-minutes*
WEST_LONGITUDE -119 22 30.000 signed deg min sec SDDD MM SS.SSS*
EAST_LONGITUDE -119 18 45.000 signed deg min sec SDDD MM SS.SSS*
NORTH_LATITUDE 34 52 30.000 signed deg min sec SDDD MM SS.SSS*
SOUTH_LATITUDE 34 48 45.000 signed deg min sec SDDD MM SS.SSS*
PRODUCTION_DATE 1996 6 6 yyyy mm dd*
RASTER_ORDER LEFT_RIGHT/TOP_BOTTOM video display order*
BAND_ORGANIZATION "SINGLE FILE" single file or BSQ, or BIL or BIP*
BAND_CONTENT BLACK&WHITE black&white or red green blue*
BITS_PER_PIXEL 8 radiometric resolution*
SAMPLES_AND_LINES 6568 7670 number of columns and rows*
HORIZONTAL_DATUM NAD83 primary horizontal datum*
HORIZONTAL_COORDINATE_SYSTEM UTM *
COORDINATE_ZONE 11 coordinate system zone number*
HORIZONTAL_UNITS METERS coordinate system units*
HORIZONTAL_RESOLUTION 1.00 pixel horiz. ground sample distance*
SECONDARY_HORIZONTAL_DATUM NAD27 secondary horizontal datum*
XY_ORIGIN 282374.000 3862056.000 coord. of upper left pixel pri. datum*
SECONDARY_XY_ORIGIN 282456.000 3861860.000 coord upper left pixel sec datum*
NATION US nation code*
STATE CA state fip code*
NW_QUAD_CORNER_XY 282926.564 3861754.539 XY coords. of pri. NW quad corner*
NE_QUAD_CORNER_XY 288640.120 3861620.826 XY coords. of pri. NE quad corner*
SE_QUAD_CORNER_XY 288480.164 3854688.016 XY coords. of pri. SE quad corner*
SW_QUAD_CORNER_XY 282762.278 3854821.621 XY coords. of pri. SW quad corner*
SECONDARY_NW_QUAD_XY 282921.559 3861557.412 XY coords. - sec. NW quad cor.*
SECONDARY_NE_QUAD_XY 288635.246 3861423.696 XY coords. - sec. NE quad cor.*
SECONDARY_SE_QUAD_XY 288475.294 3854491.077 XY coords. - sec. SE quad cor.*
SECONDARY_SW_QUAD_XY 282757.276 3854624.685 XY coords. - sec. SW quad cor.*
RMSE_XY 7.10 doq horiz. accuracy*
IMAGE_SOURCE "BLACK AND WHITE FILM" b&w, cir, natural color, other*
SOURCE_IMAGE_ID "NAPP 6924 190" source image id*
SOURCE_IMAGE_DATE 1994 5 29 source image date as yyyy mm dd*
SOURCE_DEM_DATE 1996 6 6 source dem date yyyy mm dd*
AGENCY "WESTERN MAPPING CENTER (WMC)" oversight agency*
PRODUCER "USFS" producer/contractor*
PRODUCTION_SYSTEM "DV2.6.1 6/95OV2.4 5/95" production system*
STANDARD_VERSION 1996 12 version of DOQ standard*
METADATA_DATE 1997 6 11 date created or changed, yyyy mm dd*
DATA_FILE_SIZE 50383128 data set size in bytes*
BYTE_COUNT 6568 header byte count* * * * * * * * * * * * * * * * * * * * * * * * * * * * * * * * * * * * * * * *
END_USGS_HEADER *
