BEGIN_USGS_DOQ_HEADER *
QUADRANGLE_NAME "SALISBURY POTRERO" 3.45 or 7.5-min. name*
QUADRANT NW quadrant indicator if cell size = 3.75-minutes*
WEST_LONGITUDE -119 45 0.000 signed deg min sec SDDD MM SS.SSS*
EAST_LONGITUDE -119 41 15.000 signed deg min sec SDDD MM SS.SSS*
NORTH_LATITUDE 34 52 30.000 signed deg min sec SDDD MM SS.SSS*
SOUTH_LATITUDE 34 48 45.000 signed deg min sec SDDD MM SS.SSS*
PRODUCTION_DATE 1996 4 20 yyyy mm dd*
RASTER_ORDER LEFT_RIGHT/TOP_BOTTOM video display order*
BAND_ORGANIZATION "SINGLE FILE" single file or BSQ, or BIL or BIP*
BAND_CONTENT BLACK&WHITE black&white or red green blue*
BITS_PER_PIXEL 8 radiometric resolution*
SAMPLES_AND_LINES 6596 7692 number of columns and rows*
HORIZONTAL_DATUM NAD83 primary horizontal datum*
HORIZONTAL_COORDINATE_SYSTEM UTM *
COORDINATE_ZONE 11 coordinate system zone number*
HORIZONTAL_UNITS METERS coordinate system units*
HORIZONTAL_RESOLUTION 1.00 pixel horiz. ground sample distance*
SECONDARY_HORIZONTAL_DATUM NAD27 secondary horizontal datum*
XY_ORIGIN 248063.000 3862933.000 coord. of upper left pixel pri. datum*
SECONDARY_XY_ORIGIN 248145.727 3862735.624 coord upper left pixel sec datum*
NATION US nation code*
STATE CA state fip code*
NW_QUAD_CORNER_XY 248643.257 3862631.850 XY coords. of pri. NW quad corner*
NE_QUAD_CORNER_XY 254357.388 3862476.696 XY coords. of pri. NE quad corner*
SE_QUAD_CORNER_XY 254171.439 3855543.195 XY coords. of pri. SE quad corner*
SW_QUAD_CORNER_XY 248452.973 3855698.223 XY coords. of pri. SW quad corner*
SECONDARY_NW_QUAD_XY 248637.460 3862434.743 XY coords. - sec. NW quad cor.*
SECONDARY_NE_QUAD_XY 254351.723 3862279.586 XY coords. - sec. NE quad cor.*
SECONDARY_SE_QUAD_XY 254165.779 3855346.275 XY coords. - sec. SE quad cor.*
SECONDARY_SW_QUAD_XY 248447.181 3855501.306 XY coords. - sec. SW quad cor.*
RMSE_XY 3.40 doq horiz. accuracy*
IMAGE_SOURCE "BLACK AND WHITE FILM" b&w, cir, natural color, other*
SOURCE_IMAGE_ID "NAPP 6924 91" source image id*
SOURCE_IMAGE_DATE 1994 5 29 source image date as yyyy mm dd*
SOURCE_DEM_DATE 1996 4 20 source dem date yyyy mm dd*
AGENCY "WESTERN MAPPING CENTER (WMC)" oversight agency*
PRODUCER "USFS" producer/contractor*
PRODUCTION_SYSTEM "DV2.6.1 6/95OV2.4 5/95" production system*
STANDARD_VERSION 1996 12 version of DOQ standard*
METADATA_DATE 1997 6 14 date created or changed, yyyy mm dd*
DATA_FILE_SIZE 50743028 data set size in bytes*
BYTE_COUNT 6596 header byte count* * * * * * * * * * * * * * * * * * * * * * * * * * * * * * * * * * * * * * * *
END_USGS_HEADER *
