BEGIN_USGS_DOQ_HEADER *
QUADRANGLE_NAME "NEW CUYAMA" 3.45 or 7.5-min. name*
QUADRANT SE quadrant indicator if cell size = 3.75-minutes*
WEST_LONGITUDE -119 41 15.000 signed deg min sec SDDD MM SS.SSS*
EAST_LONGITUDE -119 37 30.000 signed deg min sec SDDD MM SS.SSS*
NORTH_LATITUDE 34 56 15.000 signed deg min sec SDDD MM SS.SSS*
SOUTH_LATITUDE 34 52 30.000 signed deg min sec SDDD MM SS.SSS*
PRODUCTION_DATE 1996 4 20 yyyy mm dd*
RASTER_ORDER LEFT_RIGHT/TOP_BOTTOM video display order*
BAND_ORGANIZATION "SINGLE FILE" single file or BSQ, or BIL or BIP*
BAND_CONTENT BLACK&WHITE black&white or red green blue*
BITS_PER_PIXEL 8 radiometric resolution*
SAMPLES_AND_LINES 6584 7688 number of columns and rows*
HORIZONTAL_DATUM NAD83 primary horizontal datum*
HORIZONTAL_COORDINATE_SYSTEM UTM *
COORDINATE_ZONE 11 coordinate system zone number*
HORIZONTAL_UNITS METERS coordinate system units*
HORIZONTAL_RESOLUTION 1.00 pixel horiz. ground sample distance*
SECONDARY_HORIZONTAL_DATUM NAD27 secondary horizontal datum*
XY_ORIGIN 253968.000 3869711.000 coord. of upper left pixel pri. datum*
SECONDARY_XY_ORIGIN 254050.510 3869513.851 coord upper left pixel sec datum*
NATION US nation code*
STATE CA state fip code*
NW_QUAD_CORNER_XY 254543.631 3869410.254 XY coords. of pri. NW quad corner*
NE_QUAD_CORNER_XY 260253.320 3869258.553 XY coords. of pri. NE quad corner*
SE_QUAD_CORNER_XY 260071.418 3862325.118 XY coords. of pri. SE quad corner*
SW_QUAD_CORNER_XY 254357.388 3862476.696 XY coords. of pri. SW quad corner*
SECONDARY_NW_QUAD_XY 254537.960 3869212.955 XY coords. - sec. NW quad cor.*
SECONDARY_NE_QUAD_XY 260247.781 3869061.251 XY coords. - sec. NE quad cor.*
SECONDARY_SE_QUAD_XY 260065.885 3862128.004 XY coords. - sec. SE quad cor.*
SECONDARY_SW_QUAD_XY 254351.723 3862279.586 XY coords. - sec. SW quad cor.*
RMSE_XY 2.30 doq horiz. accuracy*
IMAGE_SOURCE "BLACK AND WHITE FILM" b&w, cir, natural color, other*
SOURCE_IMAGE_ID "NAPP 6924 152" source image id*
SOURCE_IMAGE_DATE 1994 5 29 source image date as yyyy mm dd*
SOURCE_DEM_DATE 1996 4 20 source dem date yyyy mm dd*
AGENCY "WESTERN MAPPING CENTER (WMC)" oversight agency*
PRODUCER "USFS" producer/contractor*
PRODUCTION_SYSTEM "DV2.6.1 6/95OV2.4 5/95" production system*
STANDARD_VERSION 1996 12 version of DOQ standard*
METADATA_DATE 1997 6 14 date created or changed, yyyy mm dd*
DATA_FILE_SIZE 50624376 data set size in bytes*
BYTE_COUNT 6584 header byte count* * * * * * * * * * * * * * * * * * * * * * * * * * * * * * * * * * * * * * * *
END_USGS_HEADER *
