BEGIN_USGS_DOQ_HEADER *
QUADRANGLE_NAME "SAN MIGUEL ISLAND EAST" 3.45 or 7.5-min. name*
QUADRANT NW quadrant indicator if cell size = 3.75-minutes*
WEST_LONGITUDE -120 22 30.000 signed deg min sec SDDD MM SS.SSS*
EAST_LONGITUDE -120 18 45.000 signed deg min sec SDDD MM SS.SSS*
NORTH_LATITUDE 34 7 30.000 signed deg min sec SDDD MM SS.SSS*
SOUTH_LATITUDE 34 3 45.000 signed deg min sec SDDD MM SS.SSS*
PRODUCTION_DATE 1995 9 18 yyyy mm dd*
RASTER_ORDER LEFT_RIGHT/TOP_BOTTOM video display order*
BAND_ORGANIZATION "SINGLE FILE" single file or BSQ, or BIL or BIP*
BAND_CONTENT BLACK&WHITE black&white or red green blue*
BITS_PER_PIXEL 8 radiometric resolution*
SAMPLES_AND_LINES 6640 7688 number of columns and rows*
HORIZONTAL_DATUM NAD83 primary horizontal datum*
HORIZONTAL_COORDINATE_SYSTEM UTM *
COORDINATE_ZONE 10 coordinate system zone number*
HORIZONTAL_UNITS METERS coordinate system units*
HORIZONTAL_RESOLUTION 1.00 pixel horiz. ground sample distance*
SECONDARY_HORIZONTAL_DATUM NAD27 secondary horizontal datum*
XY_ORIGIN 741697.000 3779579.000 coord. of upper left pixel pri. datum*
SECONDARY_XY_ORIGIN 741793.000 3779388.000 coord upper left pixel sec datum*
NATION US nation code*
STATE CA state fip code*
NW_QUAD_CORNER_XY 742089.038 3779128.280 XY coords. of pri. NW quad corner*
NE_QUAD_CORNER_XY 747854.622 3779278.341 XY coords. of pri. NE quad corner*
SE_QUAD_CORNER_XY 748037.042 3772345.504 XY coords. of pri. SE quad corner*
SW_QUAD_CORNER_XY 742267.206 3772195.574 XY coords. of pri. SW quad corner*
SECONDARY_NW_QUAD_XY 742094.511 3778933.499 XY coords. - sec. NW quad cor.*
SECONDARY_NE_QUAD_XY 747860.226 3779083.564 XY coords. - sec. NE quad cor.*
SECONDARY_SE_QUAD_XY 748042.640 3772150.926 XY coords. - sec. SE quad cor.*
SECONDARY_SW_QUAD_XY 742272.673 3772000.993 XY coords. - sec. SW quad cor.*
RMSE_XY 3.30 doq horiz. accuracy*
IMAGE_SOURCE "BLACK AND WHITE FILM" b&w, cir, natural color, other*
SOURCE_IMAGE_ID "NAPP 6928 148" source image id*
SOURCE_IMAGE_DATE 1994 9 15 source image date as yyyy mm dd*
SOURCE_DEM_DATE 1995 9 18 source dem date yyyy mm dd*
AGENCY "WESTERN MAPPING CENTER (WMC)" oversight agency*
PRODUCER "WMC" producer/contractor*
PRODUCTION_SYSTEM "DV2.6.1 6/95OV2.4 5/95" production system*
STANDARD_VERSION 1996 12 version of DOQ standard*
METADATA_DATE 1997 6 20 date created or changed, yyyy mm dd*
DATA_FILE_SIZE 51054960 data set size in bytes*
BYTE_COUNT 6640 header byte count* * * * * * * * * * * * * * * * * * * * * * * * * * * * * * * * * * * * * * * *
END_USGS_HEADER *
