BEGIN_USGS_DOQ_HEADER *
QUADRANGLE_NAME "SANTA YNEZ" 3.45 or 7.5-min. name*
QUADRANT NE quadrant indicator if cell size = 3.75-minutes*
WEST_LONGITUDE -120 3 45.000 signed deg min sec SDDD MM SS.SSS*
EAST_LONGITUDE -120 0 0.000 signed deg min sec SDDD MM SS.SSS*
NORTH_LATITUDE 34 37 30.000 signed deg min sec SDDD MM SS.SSS*
SOUTH_LATITUDE 34 33 45.000 signed deg min sec SDDD MM SS.SSS*
PRODUCTION_DATE 1996 4 25 yyyy mm dd*
RASTER_ORDER LEFT_RIGHT/TOP_BOTTOM video display order*
BAND_ORGANIZATION "SINGLE FILE" single file or BSQ, or BIL or BIP*
BAND_CONTENT BLACK&WHITE black&white or red green blue*
BITS_PER_PIXEL 8 radiometric resolution*
SAMPLES_AND_LINES 6628 7710 number of columns and rows*
HORIZONTAL_DATUM NAD83 primary horizontal datum*
HORIZONTAL_COORDINATE_SYSTEM UTM *
COORDINATE_ZONE 10 coordinate system zone number*
HORIZONTAL_UNITS METERS coordinate system units*
HORIZONTAL_RESOLUTION 1.00 pixel horiz. ground sample distance*
SECONDARY_HORIZONTAL_DATUM NAD27 secondary horizontal datum*
XY_ORIGIN 768920.000 3835853.000 coord. of upper left pixel pri. datum*
SECONDARY_XY_ORIGIN 769015.869 3835660.754 coord upper left pixel sec datum*
NATION US nation code*
STATE CA state fip code*
NW_QUAD_CORNER_XY 769311.016 3835382.997 XY coords. of pri. NW quad corner*
NE_QUAD_CORNER_XY 775042.887 3835551.902 XY coords. of pri. NE quad corner*
SE_QUAD_CORNER_XY 775249.207 3828617.952 XY coords. of pri. SE quad corner*
SW_QUAD_CORNER_XY 769513.026 3828449.186 XY coords. of pri. SW quad corner*
SECONDARY_NW_QUAD_XY 769317.187 3835186.667 XY coords. - sec. NW quad cor.*
SECONDARY_NE_QUAD_XY 775049.190 3835355.576 XY coords. - sec. NE quad cor.*
SECONDARY_SE_QUAD_XY 775255.503 3828421.819 XY coords. - sec. SE quad cor.*
SECONDARY_SW_QUAD_XY 769519.191 3828253.050 XY coords. - sec. SW quad cor.*
RMSE_XY 2.50 doq horiz. accuracy*
IMAGE_SOURCE "BLACK AND WHITE FILM" b&w, cir, natural color, other*
SOURCE_IMAGE_ID "NAPP 6925 117" source image id*
SOURCE_IMAGE_DATE 1994 6 1 source image date as yyyy mm dd*
SOURCE_DEM_DATE 1996 4 25 source dem date yyyy mm dd*
AGENCY "WESTERN MAPPING CENTER (WMC)" oversight agency*
PRODUCER "USDA FS GEOMETRONICS SERVICE CENTER" *
PRODUCTION_SYSTEM "DV2.6.1 6/95OV2.4 5/95" production system*
STANDARD_VERSION 1996 12 version of DOQ standard*
METADATA_DATE 1999 2 4 date created or changed, yyyy mm dd*
DATA_FILE_SIZE 51108508 data set size in bytes*
BYTE_COUNT 6628 header byte count* * * * * * * * * * * * * * * * * * * * * * * * * * * * * * * * * * * * * * * *
END_USGS_HEADER *
