BEGIN_USGS_DOQ_HEADER *
QUADRANGLE_NAME "SOLVANG" 3.45 or 7.5-min. name*
QUADRANT NW quadrant indicator if cell size = 3.75-minutes*
WEST_LONGITUDE -120 15 0.000 signed deg min sec SDDD MM SS.SSS*
EAST_LONGITUDE -120 11 15.000 signed deg min sec SDDD MM SS.SSS*
NORTH_LATITUDE 34 37 30.000 signed deg min sec SDDD MM SS.SSS*
SOUTH_LATITUDE 34 33 45.000 signed deg min sec SDDD MM SS.SSS*
PRODUCTION_DATE 1996 4 24 yyyy mm dd*
RASTER_ORDER LEFT_RIGHT/TOP_BOTTOM video display order*
BAND_ORGANIZATION "SINGLE FILE" single file or BSQ, or BIL or BIP*
BAND_CONTENT BLACK&WHITE black&white or red green blue*
BITS_PER_PIXEL 8 radiometric resolution*
SAMPLES_AND_LINES 6616 7699 number of columns and rows*
HORIZONTAL_DATUM NAD83 primary horizontal datum*
HORIZONTAL_COORDINATE_SYSTEM UTM *
COORDINATE_ZONE 10 coordinate system zone number*
HORIZONTAL_UNITS METERS coordinate system units*
HORIZONTAL_RESOLUTION 1.00 pixel horiz. ground sample distance*
SECONDARY_HORIZONTAL_DATUM NAD27 secondary horizontal datum*
XY_ORIGIN 751725.000 3835357.000 coord. of upper left pixel pri. datum*
SECONDARY_XY_ORIGIN 751821.200 3835164.788 coord upper left pixel sec datum*
NATION US nation code*
STATE CA state fip code*
NW_QUAD_CORNER_XY 752116.080 3834897.670 XY coords. of pri. NW quad corner*
NE_QUAD_CORNER_XY 757847.610 3835055.880 XY coords. of pri. NE quad corner*
SE_QUAD_CORNER_XY 758041.010 3828122.340 XY coords. of pri. SE quad corner*
SW_QUAD_CORNER_XY 752305.160 3827964.260 XY coords. of pri. SW quad corner*
SECONDARY_NW_QUAD_XY 752121.860 3834701.330 XY coords. - sec. NW quad cor.*
SECONDARY_NE_QUAD_XY 757853.520 3834859.540 XY coords. - sec. NE quad cor.*
SECONDARY_SE_QUAD_XY 758046.910 3827926.200 XY coords. - sec. SE quad cor.*
SECONDARY_SW_QUAD_XY 752310.930 3827768.120 XY coords. - sec. SW quad cor.*
RMSE_XY 3.80 doq horiz. accuracy*
IMAGE_SOURCE "BLACK AND WHITE FILM" b&w, cir, natural color, other*
SOURCE_IMAGE_ID "NAPP 6928 131" source image id*
SOURCE_IMAGE_DATE 1994 9 15 source image date as yyyy mm dd*
SOURCE_DEM_DATE 1996 4 24 source dem date yyyy mm dd*
AGENCY "WESTERN MAPPING CENTER (WMC)" oversight agency*
PRODUCER "USDA FS GEOMETRONICS SERVICE CENTER" *
PRODUCTION_SYSTEM "DV2.6.1 6/95OV2.4 5/95" production system*
STANDARD_VERSION 1996 12 version of DOQ standard*
METADATA_DATE 1999 2 4 date created or changed, yyyy mm dd*
DATA_FILE_SIZE 50943200 data set size in bytes*
BYTE_COUNT 6616 header byte count* * * * * * * * * * * * * * * * * * * * * * * * * * * * * * * * * * * * * * * *
END_USGS_HEADER *
