BEGIN_USGS_DOQ_HEADER *
QUADRANGLE_NAME "LOMPOC HILLS" *
QUADRANT SW *
NORTH_LATITUDE 34 33 45.000 *
WEST_LONGITUDE -120 30 00.000 *
SOUTH_LATITUDE 34 30 00.000 *
EAST_LONGITUDE -120 26 15.000 *
PRODUCTION_DATE 1998 11 03 *
RASTER_ORDER LEFT_RIGHT/TOP_BOTTOM *
BAND_ORGANIZATION "SINGLE FILE" *
BAND_CONTENT BLACK&WHITE *
BITS_PER_PIXEL 8 *
SAMPLES_AND_LINES 6630 7710 *
HORIZONTAL_DATUM NAD83 *
HORIZONTAL_COORDINATE_SYSTEM UTM *
COORDINATE_ZONE 10 *
HORIZONTAL_UNITS METERS *
HORIZONTAL_RESOLUTION 1.000 *
SECONDARY_HORIZONTAL_DATUM NAD27 *
XY_ORIGIN 728970.000 3827820.000 *
SECONDARY_XY_ORIGIN 729066.817 3827627.857 *
NATION US *
STATE CA *
NW_QUAD_CORNER_XY 729362.842 3827367.546 *
NE_QUAD_CORNER_XY 735098.269 3827511.386 *
SE_QUAD_CORNER_XY 735274.153 3820578.412 *
SW_QUAD_CORNER_XY 729534.427 3820434.692 *
SECONDARY_NW_QUAD_XY 729368.088 3827171.385 *
SECONDARY_NE_QUAD_XY 735103.646 3827315.228 *
SECONDARY_SE_QUAD_XY 735279.525 3820382.448 *
SECONDARY_SW_QUAD_XY 729539.668 3820238.724 *
RMSE_XY 3.351 *
IMAGE_SOURCE "BLACK AND WHITE FILM" *
SOURCE_IMAGE_ID "NAPP 6921 42" *
SOURCE_IMAGE_DATE 1994 09 03 *
SOURCE_DEM_DATE 1956 01 01 *
AGENCY "WESTERN MAPPING CENTER (WMC)" *
PRODUCER "ANALYTICAL SURVEYS INC." *
PRODUCTION_SYSTEM "ORBIT OR_RECTIFY V.5.2" *
STANDARD_VERSION 1996 12 *
METADATA_DATE 1998 11 05 *
DATA_FILE_SIZE 51123930 *
BYTE_COUNT 6630 * * * * * * * * * * * * * * * * * * * * * * * * * * * * * * * * * * * * * * * *
END_USGS_HEADER *
