BEGIN_USGS_DOQ_HEADER *
QUADRANGLE_NAME "TRANQUILLON MOUNTAIN" *
QUADRANT NW *
NORTH_LATITUDE 34 37 30.000 *
WEST_LONGITUDE -120 37 30.000 *
SOUTH_LATITUDE 34 33 45.000 *
EAST_LONGITUDE -120 33 45.000 *
PRODUCTION_DATE 1998 11 03 *
RASTER_ORDER LEFT_RIGHT/TOP_BOTTOM *
BAND_ORGANIZATION "SINGLE FILE" *
BAND_CONTENT BLACK&WHITE *
BITS_PER_PIXEL 8 *
SAMPLES_AND_LINES 6600 7710 *
HORIZONTAL_DATUM NAD83 *
HORIZONTAL_COORDINATE_SYSTEM UTM *
COORDINATE_ZONE 10 *
HORIZONTAL_UNITS METERS *
HORIZONTAL_RESOLUTION 1.000 *
SECONDARY_HORIZONTAL_DATUM NAD27 *
XY_ORIGIN 717330.000 3834480.000 *
SECONDARY_XY_ORIGIN 717426.956 3834287.632 *
NATION US *
STATE CA *
NW_QUAD_CORNER_XY 717729.029 3834023.223 *
NE_QUAD_CORNER_XY 723459.959 3834160.060 *
SE_QUAD_CORNER_XY 723627.513 3827227.265 *
SW_QUAD_CORNER_XY 717892.279 3827090.541 *
SECONDARY_NW_QUAD_XY 717734.017 3833826.861 *
SECONDARY_NE_QUAD_XY 723465.078 3833963.702 *
SECONDARY_SE_QUAD_XY 723632.627 3827031.100 *
SECONDARY_SW_QUAD_XY 717897.262 3826894.373 *
RMSE_XY 2.707 *
IMAGE_SOURCE "BLACK AND WHITE FILM" *
SOURCE_IMAGE_ID "NAPP 6928 55" *
SOURCE_IMAGE_DATE 1994 09 15 *
SOURCE_DEM_DATE 1956 01 01 *
AGENCY "WESTERN MAPPING CENTER (WMC)" *
PRODUCER "ANALYTICAL SURVEYS INC." *
PRODUCTION_SYSTEM "ORBIT OR_RECTIFY V.5.2" *
STANDARD_VERSION 1996 12 *
METADATA_DATE 1998 11 05 *
DATA_FILE_SIZE 50892600 *
BYTE_COUNT 6600 * * * * * * * * * * * * * * * * * * * * * * * * * * * * * * * * * * * * * * * *
END_USGS_HEADER *
