BEGIN_USGS_DOQ_HEADER *
QUADRANGLE_NAME "LOS OLIVOS" 3.45 or 7.5-min. name*
QUADRANT NW quadrant indicator if cell size = 3.75-minutes*
WEST_LONGITUDE -120 7 30.000 signed deg min sec SDDD MM SS.SSS*
EAST_LONGITUDE -120 3 45.000 signed deg min sec SDDD MM SS.SSS*
NORTH_LATITUDE 34 45 0.000 signed deg min sec SDDD MM SS.SSS*
SOUTH_LATITUDE 34 41 15.000 signed deg min sec SDDD MM SS.SSS*
PRODUCTION_DATE 1996 4 24 yyyy mm dd*
RASTER_ORDER LEFT_RIGHT/TOP_BOTTOM video display order*
BAND_ORGANIZATION "SINGLE FILE" single file or BSQ, or BIL or BIP*
BAND_CONTENT BLACK&WHITE black&white or red green blue*
BITS_PER_PIXEL 8 radiometric resolution*
SAMPLES_AND_LINES 6616 7707 number of columns and rows*
HORIZONTAL_DATUM NAD83 primary horizontal datum*
HORIZONTAL_COORDINATE_SYSTEM UTM *
COORDINATE_ZONE 10 coordinate system zone number*
HORIZONTAL_UNITS METERS coordinate system units*
HORIZONTAL_RESOLUTION 1.00 pixel horiz. ground sample distance*
SECONDARY_HORIZONTAL_DATUM NAD27 secondary horizontal datum*
XY_ORIGIN 762792.000 3849552.000 coord. of upper left pixel pri. datum*
SECONDARY_XY_ORIGIN 762887.000 3849360.000 coord upper left pixel sec datum*
NATION US nation code*
STATE CA state fip code*
NW_QUAD_CORNER_XY 763182.918 3849085.163 XY coords. of pri. NW quad corner*
NE_QUAD_CORNER_XY 768906.035 3849250.775 XY coords. of pri. NE quad corner*
SE_QUAD_CORNER_XY 769108.686 3842316.860 XY coords. of pri. SE quad corner*
SW_QUAD_CORNER_XY 763381.246 3842151.383 XY coords. of pri. SW quad corner*
SECONDARY_NW_QUAD_XY 763188.968 3848888.445 XY coords. - sec. NW quad cor.*
SECONDARY_NE_QUAD_XY 768912.217 3849054.061 XY coords. - sec. NE quad cor.*
SECONDARY_SE_QUAD_XY 769114.862 3842120.337 XY coords. - sec. SE quad cor.*
SECONDARY_SW_QUAD_XY 763387.290 3841954.857 XY coords. - sec. SW quad cor.*
RMSE_XY 3.70 doq horiz. accuracy*
IMAGE_SOURCE "BLACK AND WHITE FILM" b&w, cir, natural color, other*
SOURCE_IMAGE_ID "NAPP 6927 227" source image id*
SOURCE_IMAGE_DATE 1994 9 4 source image date as yyyy mm dd*
SOURCE_DEM_DATE 1996 4 24 source dem date yyyy mm dd*
AGENCY "WESTERN MAPPING CENTER (WMC)" oversight agency*
PRODUCER "USDA FS GEOMETRONICS SERVICE CENTER" *
PRODUCTION_SYSTEM "DV2.6.1 6/95OV2.4 5/95" production system*
STANDARD_VERSION 1996 12 version of DOQ standard*
METADATA_DATE 1999 2 4 date created or changed, yyyy mm dd*
DATA_FILE_SIZE 50996128 data set size in bytes*
BYTE_COUNT 6616 header byte count* * * * * * * * * * * * * * * * * * * * * * * * * * * * * * * * * * * * * * * *
END_USGS_HEADER *
