BEGIN_USGS_DOQ_HEADER *
QUADRANGLE_NAME "ZACA CREEK" *
QUADRANT NW *
NORTH_LATITUDE 34 45 00.000 *
WEST_LONGITUDE -120 15 00.000 *
SOUTH_LATITUDE 34 41 15.000 *
EAST_LONGITUDE -120 11 15.000 *
PRODUCTION_DATE 1998 11 10 *
RASTER_ORDER LEFT_RIGHT/TOP_BOTTOM *
BAND_ORGANIZATION "SINGLE FILE" *
BAND_CONTENT BLACK&WHITE *
BITS_PER_PIXEL 8 *
SAMPLES_AND_LINES 6660 7740 *
HORIZONTAL_DATUM NAD83 *
HORIZONTAL_COORDINATE_SYSTEM UTM *
COORDINATE_ZONE 10 *
HORIZONTAL_UNITS METERS *
HORIZONTAL_RESOLUTION 1.000 *
SECONDARY_HORIZONTAL_DATUM NAD27 *
XY_ORIGIN 751320.000 3849240.000 *
SECONDARY_XY_ORIGIN 751416.204 3849047.763 *
NATION US *
STATE CA *
NW_QUAD_CORNER_XY 751737.011 3848764.650 *
NE_QUAD_CORNER_XY 757459.910 3848923.122 *
SE_QUAD_CORNER_XY 757653.916 3841989.475 *
SW_QUAD_CORNER_XY 751926.695 3841831.133 *
SECONDARY_NW_QUAD_XY 751742.798 3848567.925 *
SECONDARY_NE_QUAD_XY 757465.829 3848726.400 *
SECONDARY_SE_QUAD_XY 757659.829 3841792.945 *
SECONDARY_SW_QUAD_XY 751932.477 3841634.600 *
RMSE_XY 1.559 *
IMAGE_SOURCE "BLACK AND WHITE FILM" *
SOURCE_IMAGE_ID "NAPP 6928 135" *
SOURCE_IMAGE_DATE 1994 09 15 *
SOURCE_DEM_DATE 1957 01 01 *
AGENCY "WESTERN MAPPING CENTER (WMC)" *
PRODUCER "ANALYTICAL SURVEYS INC." *
PRODUCTION_SYSTEM "ORBIT OR_RECTIFY V.5.2" *
STANDARD_VERSION 1996 12 *
METADATA_DATE 1998 11 16 *
DATA_FILE_SIZE 51555060 *
BYTE_COUNT 6660 * * * * * * * * * * * * * * * * * * * * * * * * * * * * * * * * * * * * * * * * *
END_USGS_HEADER *
