BEGIN_USGS_DOQ_HEADER *
QUADRANGLE_NAME "LOS ALAMOS" *
QUADRANT NW *
NORTH_LATITUDE 34 45 00.000 *
WEST_LONGITUDE -120 22 30.000 *
SOUTH_LATITUDE 34 41 15.000 *
EAST_LONGITUDE -120 18 45.000 *
PRODUCTION_DATE 1998 11 04 *
RASTER_ORDER LEFT_RIGHT/TOP_BOTTOM *
BAND_ORGANIZATION "SINGLE FILE" *
BAND_CONTENT BLACK&WHITE *
BITS_PER_PIXEL 8 *
SAMPLES_AND_LINES 6630 7710 *
HORIZONTAL_DATUM NAD83 *
HORIZONTAL_COORDINATE_SYSTEM UTM *
COORDINATE_ZONE 10 *
HORIZONTAL_UNITS METERS *
HORIZONTAL_RESOLUTION 1.000 *
SECONDARY_HORIZONTAL_DATUM NAD27 *
XY_ORIGIN 739890.000 3848910.000 *
SECONDARY_XY_ORIGIN 739986.450 3848717.677 *
NATION US *
STATE CA *
NW_QUAD_CORNER_XY 740291.527 3848458.416 *
NE_QUAD_CORNER_XY 746014.218 3848609.749 *
SE_QUAD_CORNER_XY 746199.581 3841676.358 *
SW_QUAD_CORNER_XY 740472.570 3841525.150 *
SECONDARY_NW_QUAD_XY 740297.051 3848261.683 *
SECONDARY_NE_QUAD_XY 746019.873 3848413.020 *
SECONDARY_SE_QUAD_XY 746205.231 3841479.821 *
SECONDARY_SW_QUAD_XY 740478.089 3841328.609 *
RMSE_XY 3.212 *
IMAGE_SOURCE "BLACK AND WHITE FILM" *
SOURCE_IMAGE_ID "NAPP 6921 92" *
SOURCE_IMAGE_DATE 1994 09 03 *
SOURCE_DEM_DATE 1959 01 01 *
AGENCY "WESTERN MAPPING CENTER (WMC)" *
PRODUCER "ANALYTICAL SURVEYS INC." *
PRODUCTION_SYSTEM "ORBIT OR_RECTIFY V.5.2" *
STANDARD_VERSION 1996 12 *
METADATA_DATE 1998 11 07 *
DATA_FILE_SIZE 51123930 *
BYTE_COUNT 6630 * * * * * * * * * * * * * * * * * * * * * * * * * * * * * * * * * * * * * * * *
END_USGS_HEADER *
