BEGIN_USGS_DOQ_HEADER *
QUADRANGLE_NAME "SURF" *
QUADRANT SW *
NORTH_LATITUDE 34 41 15.000 *
WEST_LONGITUDE -120 37 30.000 *
SOUTH_LATITUDE 34 37 30.000 *
EAST_LONGITUDE -120 33 45.000 *
PRODUCTION_DATE 1998 11 03 *
RASTER_ORDER LEFT_RIGHT/TOP_BOTTOM *
BAND_ORGANIZATION "SINGLE FILE" *
BAND_CONTENT BLACK&WHITE *
BITS_PER_PIXEL 8 *
SAMPLES_AND_LINES 6630 7710 *
HORIZONTAL_DATUM NAD83 *
HORIZONTAL_COORDINATE_SYSTEM UTM *
COORDINATE_ZONE 10 *
HORIZONTAL_UNITS METERS *
HORIZONTAL_RESOLUTION 1.000 *
SECONDARY_HORIZONTAL_DATUM NAD27 *
XY_ORIGIN 717150.000 3841410.000 *
SECONDARY_XY_ORIGIN 717246.924 3841217.570 *
NATION US *
STATE CA *
NW_QUAD_CORNER_XY 717565.519 3840955.963 *
NE_QUAD_CORNER_XY 723292.138 3841092.913 *
SE_QUAD_CORNER_XY 723459.959 3834160.060 *
SW_QUAD_CORNER_XY 717729.029 3834023.223 *
SECONDARY_NW_QUAD_XY 717570.512 3840759.409 *
SECONDARY_NE_QUAD_XY 723297.262 3840896.363 *
SECONDARY_SE_QUAD_XY 723465.078 3833963.702 *
SECONDARY_SW_QUAD_XY 717734.017 3833826.861 *
RMSE_XY 1.859 *
IMAGE_SOURCE "BLACK AND WHITE FILM" *
SOURCE_IMAGE_ID "NAPP 6928 57" *
SOURCE_IMAGE_DATE 1994 09 15 *
SOURCE_IMAGE_ID "NAPP 6928 48" *
SOURCE_IMAGE_DATE 1994 09 15 *
SOURCE_DEM_DATE 1974 01 01 *
AGENCY "WESTERN MAPPING CENTER (WMC)" *
PRODUCER "ANALYTICAL SURVEYS INC." *
PRODUCTION_SYSTEM "ORBIT OR_RECTIFY V.5.2" *
STANDARD_VERSION 1996 12 *
METADATA_DATE 1998 11 05 *
DATA_FILE_SIZE 51123930 *
BYTE_COUNT 6630 * * * * * * * * * * * * * * * * * * * * * * * * * * * * * * * * * * * * * *
END_USGS_HEADER *
