BEGIN_USGS_DOQ_HEADER *
QUADRANGLE_NAME "ZACA LAKE" 3.45 or 7.5-min. name*
QUADRANT NW quadrant indicator if cell size = 3.75-minutes*
WEST_LONGITUDE -120 7 30.000 signed deg min sec SDDD MM SS.SSS*
EAST_LONGITUDE -120 3 45.000 signed deg min sec SDDD MM SS.SSS*
NORTH_LATITUDE 34 52 30.000 signed deg min sec SDDD MM SS.SSS*
SOUTH_LATITUDE 34 48 45.000 signed deg min sec SDDD MM SS.SSS*
PRODUCTION_DATE 1996 4 10 yyyy mm dd*
RASTER_ORDER LEFT_RIGHT/TOP_BOTTOM video display order*
BAND_ORGANIZATION "SINGLE FILE" single file or BSQ, or BIL or BIP*
BAND_CONTENT BLACK&WHITE black&white or red green blue*
BITS_PER_PIXEL 8 radiometric resolution*
SAMPLES_AND_LINES 6608 7708 number of columns and rows*
HORIZONTAL_DATUM NAD83 primary horizontal datum*
HORIZONTAL_COORDINATE_SYSTEM UTM *
COORDINATE_ZONE 10 coordinate system zone number*
HORIZONTAL_UNITS METERS coordinate system units*
HORIZONTAL_RESOLUTION 1.00 pixel horiz. ground sample distance*
SECONDARY_HORIZONTAL_DATUM NAD27 secondary horizontal datum*
XY_ORIGIN 762395.000 3863420.000 coord. of upper left pixel pri. datum*
SECONDARY_XY_ORIGIN 762490.771 3863227.680 coord upper left pixel sec datum*
NATION US nation code*
STATE CA state fip code*
NW_QUAD_CORNER_XY 762785.321 3862952.883 XY coords. of pri. NW quad corner*
NE_QUAD_CORNER_XY 768499.772 3863118.763 XY coords. of pri. NE quad corner*
SE_QUAD_CORNER_XY 768703.064 3856184.743 XY coords. of pri. SE quad corner*
SW_QUAD_CORNER_XY 762984.276 3856018.996 XY coords. of pri. SW quad corner*
SECONDARY_NW_QUAD_XY 762791.382 3862755.784 XY coords. - sec. NW quad cor.*
SECONDARY_NE_QUAD_XY 768505.965 3862921.668 XY coords. - sec. NE quad cor.*
SECONDARY_SE_QUAD_XY 768709.251 3855987.838 XY coords. - sec. SE quad cor.*
SECONDARY_SW_QUAD_XY 762990.331 3855822.087 XY coords. - sec. SW quad cor.*
RMSE_XY 3.80 doq horiz. accuracy*
IMAGE_SOURCE "BLACK AND WHITE FILM" b&w, cir, natural color, other*
SOURCE_IMAGE_ID "NAPP 6927 223" source image id*
SOURCE_IMAGE_DATE 1994 9 4 source image date as yyyy mm dd*
SOURCE_DEM_DATE 1996 4 10 source dem date yyyy mm dd*
AGENCY "WESTERN MAPPING CENTER (WMC)" oversight agency*
PRODUCER "USFS" producer/contractor*
PRODUCTION_SYSTEM "DV2.6.1 6/95OV2.4 5/95" production system*
STANDARD_VERSION 1996 12 version of DOQ standard*
METADATA_DATE 1997 6 13 date created or changed, yyyy mm dd*
DATA_FILE_SIZE 50941072 data set size in bytes*
BYTE_COUNT 6608 header byte count* * * * * * * * * * * * * * * * * * * * * * * * * * * * * * * * * * * * * * * *
END_USGS_HEADER *
