BEGIN_USGS_DOQ_HEADER *
QUADRANGLE_NAME "ZACA LAKE" 3.45 or 7.5-min. name*
QUADRANT SE quadrant indicator if cell size = 3.75-minutes*
WEST_LONGITUDE -120 3 45.000 signed deg min sec SDDD MM SS.SSS*
EAST_LONGITUDE -120 0 0.000 signed deg min sec SDDD MM SS.SSS*
NORTH_LATITUDE 34 48 45.000 signed deg min sec SDDD MM SS.SSS*
SOUTH_LATITUDE 34 45 0.000 signed deg min sec SDDD MM SS.SSS*
PRODUCTION_DATE 1996 4 10 yyyy mm dd*
RASTER_ORDER LEFT_RIGHT/TOP_BOTTOM video display order*
BAND_ORGANIZATION "SINGLE FILE" single file or BSQ, or BIL or BIP*
BAND_CONTENT BLACK&WHITE black&white or red green blue*
BITS_PER_PIXEL 8 radiometric resolution*
SAMPLES_AND_LINES 6616 7711 number of columns and rows*
HORIZONTAL_DATUM NAD83 primary horizontal datum*
HORIZONTAL_COORDINATE_SYSTEM UTM *
COORDINATE_ZONE 10 coordinate system zone number*
HORIZONTAL_UNITS METERS coordinate system units*
HORIZONTAL_RESOLUTION 1.00 pixel horiz. ground sample distance*
SECONDARY_HORIZONTAL_DATUM NAD27 secondary horizontal datum*
XY_ORIGIN 768313.000 3856655.000 coord. of upper left pixel pri. datum*
SECONDARY_XY_ORIGIN 768408.718 3856462.725 coord upper left pixel sec datum*
NATION US nation code*
STATE CA state fip code*
NW_QUAD_CORNER_XY 768703.064 3856184.743 XY coords. of pri. NW quad corner*
NE_QUAD_CORNER_XY 774421.963 3856354.064 XY coords. of pri. NE quad corner*
SE_QUAD_CORNER_XY 774629.265 3849419.958 XY coords. of pri. SE quad corner*
SW_QUAD_CORNER_XY 768906.035 3849250.775 XY coords. of pri. SW quad corner*
SECONDARY_NW_QUAD_XY 768709.251 3855987.838 XY coords. - sec. NW quad cor.*
SECONDARY_NE_QUAD_XY 774428.283 3856157.163 XY coords. - sec. NE quad cor.*
SECONDARY_SE_QUAD_XY 774635.579 3849223.248 XY coords. - sec. SE quad cor.*
SECONDARY_SW_QUAD_XY 768912.217 3849054.061 XY coords. - sec. SW quad cor.*
RMSE_XY 7.60 doq horiz. accuracy*
IMAGE_SOURCE "BLACK AND WHITE FILM" b&w, cir, natural color, other*
SOURCE_IMAGE_ID "NAPP 6924 19" source image id*
SOURCE_IMAGE_DATE 1994 5 29 source image date as yyyy mm dd*
SOURCE_DEM_DATE 1996 4 10 source dem date yyyy mm dd*
AGENCY "WESTERN MAPPING CENTER (WMC)" oversight agency*
PRODUCER "USFS" producer/contractor*
PRODUCTION_SYSTEM "DV2.6.1 6/95OV2.4 5/95" production system*
STANDARD_VERSION 1996 12 version of DOQ standard*
METADATA_DATE 1997 6 13 date created or changed, yyyy mm dd*
DATA_FILE_SIZE 51022592 data set size in bytes*
BYTE_COUNT 6616 header byte count* * * * * * * * * * * * * * * * * * * * * * * * * * * * * * * * * * * * * * * *
END_USGS_HEADER *
