BEGIN_USGS_DOQ_HEADER *
QUADRANGLE_NAME "FOXEN CANYON" 3.45 or 7.5-min. name*
QUADRANT NW quadrant indicator if cell size = 3.75-minutes*
WEST_LONGITUDE -120 15 0.000 signed deg min sec SDDD MM SS.SSS*
EAST_LONGITUDE -120 11 15.000 signed deg min sec SDDD MM SS.SSS*
NORTH_LATITUDE 34 52 30.000 signed deg min sec SDDD MM SS.SSS*
SOUTH_LATITUDE 34 48 45.000 signed deg min sec SDDD MM SS.SSS*
PRODUCTION_DATE 1998 2 4 yyyy mm dd*
RASTER_ORDER LEFT_RIGHT/TOP_BOTTOM video display order*
BAND_ORGANIZATION "SINGLE FILE" single file or BSQ, or BIL or BIP*
BAND_CONTENT BLACK&WHITE black&white or red green blue*
BITS_PER_PIXEL 8 radiometric resolution*
SAMPLES_AND_LINES 6601 7701 number of columns and rows*
HORIZONTAL_DATUM NAD83 primary horizontal datum*
HORIZONTAL_COORDINATE_SYSTEM UTM *
COORDINATE_ZONE 10 coordinate system zone number*
HORIZONTAL_UNITS METERS coordinate system units*
HORIZONTAL_RESOLUTION 1.00 pixel horiz. ground sample distance*
SECONDARY_HORIZONTAL_DATUM NAD27 secondary horizontal datum*
XY_ORIGIN 750965.000 3863096.000 coord. of upper left pixel pri. datum*
SECONDARY_XY_ORIGIN 751061.080 3862903.640 coord upper left pixel sec datum*
NATION US nation code*
STATE CA state fip code*
NW_QUAD_CORNER_XY 751356.830 3862631.820 XY coords. of pri. NW quad corner*
NE_QUAD_CORNER_XY 757071.060 3862790.550 XY coords. of pri. NE quad corner*
SE_QUAD_CORNER_XY 757265.680 3855856.800 XY coords. of pri. SE quad corner*
SW_QUAD_CORNER_XY 751547.110 3855698.200 XY coords. of pri. SW quad corner*
SECONDARY_NW_QUAD_XY 751362.630 3862434.720 XY coords. - sec. NW quad cor.*
SECONDARY_NE_QUAD_XY 757076.990 3862593.450 XY coords. - sec. NE quad cor.*
SECONDARY_SE_QUAD_XY 757271.610 3855659.880 XY coords. - sec. SE quad cor.*
SECONDARY_SW_QUAD_XY 751552.900 3855501.280 XY coords. - sec. SW quad cor.*
RMSE_XY 2.80 doq horiz. accuracy*
IMAGE_SOURCE "BLACK AND WHITE FILM" b&w, cir, natural color, other*
SOURCE_IMAGE_ID "NAPP 6928 139" source image id*
SOURCE_IMAGE_DATE 1994 9 15 source image date as yyyy mm dd*
IMAGE_SOURCE "BLACK AND WHITE FILM" b&w, cir, natural color, other*
SOURCE_IMAGE_ID "NAPP 6928 137" source image id*
SOURCE_IMAGE_DATE 1994 9 15 source image date as yyyy mm dd*
SOURCE_DEM_DATE 1998 2 4 source dem date yyyy mm dd*
AGENCY "WESTERN MAPPING CENTER (WMC)" oversight agency*
PRODUCER "USDA FS GEOMETRONICS SERVICE CENTER" *
PRODUCTION_SYSTEM "DV2.6.3 10/9OV2.4 5/95" production system*
STANDARD_VERSION 1996 12 version of DOQ standard*
METADATA_DATE 1998 4 10 date created or changed, yyyy mm dd*
DATA_FILE_SIZE 50840902 data set size in bytes*
BYTE_COUNT 6601 header byte count* * * * * * * * * * * * * * * * * * * * * * * * * * * * * * * * * * * * *
END_USGS_HEADER *
