BEGIN_USGS_DOQ_HEADER *
QUADRANGLE_NAME "SISQUOC" *
QUADRANT NW *
NORTH_LATITUDE 34 52 30.000 *
WEST_LONGITUDE -120 22 30.000 *
SOUTH_LATITUDE 34 48 45.000 *
EAST_LONGITUDE -120 18 45.000 *
PRODUCTION_DATE 1998 11 03 *
RASTER_ORDER LEFT_RIGHT/TOP_BOTTOM *
BAND_ORGANIZATION "SINGLE FILE" *
BAND_CONTENT BLACK&WHITE *
BITS_PER_PIXEL 8 *
SAMPLES_AND_LINES 6600 7740 *
HORIZONTAL_DATUM NAD83 *
HORIZONTAL_COORDINATE_SYSTEM UTM *
COORDINATE_ZONE 10 *
HORIZONTAL_UNITS METERS *
HORIZONTAL_RESOLUTION 1.000 *
SECONDARY_HORIZONTAL_DATUM NAD27 *
XY_ORIGIN 739530.000 3862800.000 *
SECONDARY_XY_ORIGIN 739626.340 3862607.538 *
NATION US *
STATE CA *
NW_QUAD_CORNER_XY 739928.582 3862325.118 *
NE_QUAD_CORNER_XY 745642.612 3862476.696 *
SE_QUAD_CORNER_XY 745828.561 3855543.195 *
SW_QUAD_CORNER_XY 740110.198 3855391.739 *
SECONDARY_NW_QUAD_XY 739934.115 3862128.004 *
SECONDARY_NE_QUAD_XY 745648.277 3862279.586 *
SECONDARY_SE_QUAD_XY 745834.221 3855346.275 *
SECONDARY_SW_QUAD_XY 740115.726 3855194.815 *
RMSE_XY 1.146 *
IMAGE_SOURCE "BLACK AND WHITE FILM" *
SOURCE_IMAGE_ID "NAPP 6921 96" *
SOURCE_IMAGE_DATE 1994 09 03 *
SOURCE_DEM_DATE 1956 01 01 *
AGENCY "WESTERN MAPPING CENTER (WMC)" *
PRODUCER "ANALYTICAL SURVEYS INC." *
PRODUCTION_SYSTEM "ORBIT OR_RECTIFY V.5.2" *
STANDARD_VERSION 1996 12 *
METADATA_DATE 1998 11 07 *
DATA_FILE_SIZE 51090600 *
BYTE_COUNT 6600 * * * * * * * * * * * * * * * * * * * * * * * * * * * * * * * * * * * * * * * *
END_USGS_HEADER *
