BEGIN_USGS_DOQ_HEADER *
QUADRANGLE_NAME "ORCUTT" *
QUADRANT NW *
NORTH_LATITUDE 34 52 30.000 *
WEST_LONGITUDE -120 30 00.000 *
SOUTH_LATITUDE 34 48 45.000 *
EAST_LONGITUDE -120 26 15.000 *
PRODUCTION_DATE 1998 11 02 *
RASTER_ORDER LEFT_RIGHT/TOP_BOTTOM *
BAND_ORGANIZATION "SINGLE FILE" *
BAND_CONTENT BLACK&WHITE *
BITS_PER_PIXEL 8 *
SAMPLES_AND_LINES 6600 7710 *
HORIZONTAL_DATUM NAD83 *
HORIZONTAL_COORDINATE_SYSTEM UTM *
COORDINATE_ZONE 10 *
HORIZONTAL_UNITS METERS *
HORIZONTAL_RESOLUTION 1.000 *
SECONDARY_HORIZONTAL_DATUM NAD27 *
XY_ORIGIN 728100.000 3862500.000 *
SECONDARY_XY_ORIGIN 728196.600 3862307.440 *
NATION US *
STATE CA *
NW_QUAD_CORNER_XY 728500.819 3862032.682 *
NE_QUAD_CORNER_XY 734214.652 3862177.113 *
SE_QUAD_CORNER_XY 734391.935 3855243.854 *
SW_QUAD_CORNER_XY 728673.769 3855099.540 *
SECONDARY_NW_QUAD_XY 728506.089 3861835.562 *
SECONDARY_NE_QUAD_XY 734220.053 3861979.996 *
SECONDARY_SE_QUAD_XY 734397.331 3855046.927 *
SECONDARY_SW_QUAD_XY 728679.034 3854902.609 *
RMSE_XY 1.884 *
IMAGE_SOURCE "BLACK AND WHITE FILM" *
SOURCE_IMAGE_ID "NAPP 6921 52" *
SOURCE_IMAGE_DATE 1994 09 03 *
SOURCE_DEM_DATE 1956 01 01 *
AGENCY "WESTERN MAPPING CENTER (WMC)" *
PRODUCER "ANALYTICAL SURVEYS INC." *
PRODUCTION_SYSTEM "ORBIT OR_RECTIFY V.5.2" *
STANDARD_VERSION 1996 12 *
METADATA_DATE 1998 11 10 *
DATA_FILE_SIZE 50892600 *
BYTE_COUNT 6600 * * * * * * * * * * * * * * * * * * * * * * * * * * * * * * * * * * * * * * * *
END_USGS_HEADER *
