BEGIN_USGS_DOQ_HEADER *
QUADRANGLE_NAME "CASMALIA" *
QUADRANT NE *
NORTH_LATITUDE 34 52 30.000 *
WEST_LONGITUDE -120 33 45.000 *
SOUTH_LATITUDE 34 48 45.000 *
EAST_LONGITUDE -120 30 00.000 *
PRODUCTION_DATE 1998 11 02 *
RASTER_ORDER LEFT_RIGHT/TOP_BOTTOM *
BAND_ORGANIZATION "SINGLE FILE" *
BAND_CONTENT BLACK&WHITE *
BITS_PER_PIXEL 8 *
SAMPLES_AND_LINES 6630 7710 *
HORIZONTAL_DATUM NAD83 *
HORIZONTAL_COORDINATE_SYSTEM UTM *
COORDINATE_ZONE 10 *
HORIZONTAL_UNITS METERS *
HORIZONTAL_RESOLUTION 1.000 *
SECONDARY_HORIZONTAL_DATUM NAD27 *
XY_ORIGIN 722370.000 3862350.000 *
SECONDARY_XY_ORIGIN 722466.707 3862157.417 *
NATION US *
STATE CA *
NW_QUAD_CORNER_XY 722787.081 3861891.824 *
NE_QUAD_CORNER_XY 728500.819 3862032.682 *
SE_QUAD_CORNER_XY 728673.769 3855099.540 *
SW_QUAD_CORNER_XY 722955.699 3854958.796 *
SECONDARY_NW_QUAD_XY 722792.219 3861694.701 *
SECONDARY_NE_QUAD_XY 728506.089 3861835.562 *
SECONDARY_SE_QUAD_XY 728679.034 3854902.609 *
SECONDARY_SW_QUAD_XY 722960.832 3854761.862 *
RMSE_XY 2.239 *
IMAGE_SOURCE "BLACK AND WHITE FILM" *
SOURCE_IMAGE_ID "NAPP 6928 94" *
SOURCE_IMAGE_DATE 1994 09 15 *
SOURCE_DEM_DATE 1982 01 01 *
AGENCY "WESTERN MAPPING CENTER (WMC)" *
PRODUCER "ANALYTICAL SURVEYS INC." *
PRODUCTION_SYSTEM "ORBIT OR_RECTIFY V.5.2" *
STANDARD_VERSION 1996 12 *
METADATA_DATE 1998 11 10 *
DATA_FILE_SIZE 51123930 *
BYTE_COUNT 6630 * * * * * * * * * * * * * * * * * * * * * * * * * * * * * * * * * * * * * * * *
END_USGS_HEADER *
