BEGIN_USGS_DOQ_HEADER *
QUADRANGLE_NAME "CASMALIA" *
QUADRANT SW *
NORTH_LATITUDE 34 48 45.000 *
WEST_LONGITUDE -120 37 30.000 *
SOUTH_LATITUDE 34 45 00.000 *
EAST_LONGITUDE -120 33 45.000 *
PRODUCTION_DATE 1998 11 02 *
RASTER_ORDER LEFT_RIGHT/TOP_BOTTOM *
BAND_ORGANIZATION "SINGLE FILE" *
BAND_CONTENT BLACK&WHITE *
BITS_PER_PIXEL 8 *
SAMPLES_AND_LINES 6630 7710 *
HORIZONTAL_DATUM NAD83 *
HORIZONTAL_COORDINATE_SYSTEM UTM *
COORDINATE_ZONE 10 *
HORIZONTAL_UNITS METERS *
HORIZONTAL_RESOLUTION 1.000 *
SECONDARY_HORIZONTAL_DATUM NAD27 *
XY_ORIGIN 716820.000 3855270.000 *
SECONDARY_XY_ORIGIN 716916.852 3855077.452 *
NATION US *
STATE CA *
NW_QUAD_CORNER_XY 717237.722 3854821.621 *
NE_QUAD_CORNER_XY 722955.699 3854958.796 *
SE_QUAD_CORNER_XY 723124.052 3848025.825 *
SW_QUAD_CORNER_XY 717401.751 3847888.763 *
SECONDARY_NW_QUAD_XY 717242.724 3854624.685 *
SECONDARY_NE_QUAD_XY 722960.832 3854761.862 *
SECONDARY_SE_QUAD_XY 723129.180 3847829.083 *
SECONDARY_SW_QUAD_XY 717406.747 3847692.017 *
RMSE_XY 1.934 *
IMAGE_SOURCE "BLACK AND WHITE FILM" *
SOURCE_IMAGE_ID "NAPP 6928 61" *
SOURCE_IMAGE_DATE 1994 09 15 *
SOURCE_DEM_DATE 1982 01 01 *
AGENCY "WESTERN MAPPING CENTER (WMC)" *
PRODUCER "ANALYTICAL SURVEYS INC." *
PRODUCTION_SYSTEM "ORBIT OR_RECTIFY V.5.2" *
STANDARD_VERSION 1996 12 *
METADATA_DATE 1998 11 10 *
DATA_FILE_SIZE 51123930 *
BYTE_COUNT 6630 * * * * * * * * * * * * * * * * * * * * * * * * * * * * * * * * * * * * * * * *
END_USGS_HEADER *
